{"text_format":"3","workbook":"xlsx","n_sheets":1,"sheets":["Sheet2"],"not_rendered":{"external_links":1},"read":"whole","date_system":"1900"}

{"sheet":"Sheet2","index":0,"n_rows":326,"n_cols":11,"rows_kept":326,"merged":[[0,0,0,10],[1,0,1,10]]}
["附件："]
["2022年蓬江区社区专职工作者公开招聘拟聘用人员名单公示（第一批）"]
["序号","职位代码","职位名称","姓名","准考证号","笔试成绩","面试成绩","综合成绩","体检","考察","聘用情况"]
["1","01","棠下镇棠下社区专职工作者","叶敏清","201020101225",83.92,87.4,86.008,"合格","合格","拟聘用"]
["2","01","棠下镇棠下社区专职工作者","区建华","201020101221",78.88,84.5,82.252,"合格","合格","拟聘用"]
["3","01","棠下镇棠下社区专职工作者","张志豪","201020100809",80.32,82.5,81.628,"合格","合格","拟聘用"]
["4","01","棠下镇棠下社区专职工作者","温燕婷","201020105213",82.3,78.6,80.08,"合格","合格","拟聘用"]
["5","01","棠下镇棠下社区专职工作者","江泽强","201020100223",92.95,70,79.18,"合格","合格","拟聘用"]
["6","01","棠下镇棠下社区专职工作者","黄家盈","201020102701",74.71,81.9,79.024,"合格","合格","拟聘用"]
["7","01","棠下镇棠下社区专职工作者","胡颖欣","201020104330",77.26,79.5,78.604,"合格","合格","拟聘用"]
["8","01","棠下镇棠下社区专职工作者","梁惠琪","201020101015",79.78,77.7,78.532,"合格","合格","拟聘用"]
["9","01","棠下镇棠下社区专职工作者","梁力","201020104508",80.64,77.1,78.516,"合格","合格","拟聘用"]
["10","01","棠下镇棠下社区专职工作者","黄家礼","201020101921",79.75,74.5,76.6,"合格","合格","拟聘用"]
["11","01","棠下镇棠下社区专职工作者","麦青","201020104301",75.25,77.5,76.6,"合格","合格","拟聘用"]
["12","01","棠下镇棠下社区专职工作者","袁佩佩","201020100217",79.78,74,76.312,"合格","合格","拟聘用"]
["13","01","棠下镇棠下社区专职工作者","廖小曼","201020101416",76.94,72.5,74.276,"合格","合格","拟聘用"]
["14","01","棠下镇棠下社区专职工作者","吴少利","201020101620",75.25,73.5,74.2,"合格","合格","拟聘用"]
["15","01","棠下镇棠下社区专职工作者","黄观浩","201020105007",82.52,65.9,72.548,"合格","合格","拟聘用"]
["16","02","棠下镇新昌社区专职工作者","黄晓珊","201020101711",89.89,72.5,79.456,"合格","合格","拟聘用"]
["17","02","棠下镇新昌社区专职工作者","梁菲红","201020104821",64.02,76.7,71.628,"合格","合格","拟聘用"]
["18","03","棠下镇滨江社区专职工作者","余颖琪","201020101702",89.82,82.6,85.488,"合格","合格","拟聘用"]
["19","03","棠下镇滨江社区专职工作者","崔岩","201020105227",89.03,77.1,81.872,"合格","合格","拟聘用"]
["20","03","棠下镇滨江社区专职工作者","张娣","201020103710",93.24,72.8,80.976,"合格","合格","拟聘用"]
["21","03","棠下镇滨江社区专职工作者","梁玉妍","201020100412",81.47,77.5,79.088,"合格","合格","拟聘用"]
["22","03","棠下镇滨江社区专职工作者","宋锦萍","201020103602",78.12,79.6,79.008,"合格","合格","拟聘用"]
["23","03","棠下镇滨江社区专职工作者","周爱敏","201020101201",72.41,83.4,79.004,"合格","合格","拟聘用"]
["24","03","棠下镇滨江社区专职工作者","陈耀强","201020102726",80.61,77.9,78.984,"合格","合格","拟聘用"]
["25","03","棠下镇滨江社区专职工作者","文燕华","201020103317",88.2,71.1,77.94,"合格","合格","拟聘用"]
["26","03","棠下镇滨江社区专职工作者","谭艳雯","201020105116",84.24,73.2,77.616,"合格","合格","拟聘用"]
["27","03","棠下镇滨江社区专职工作者","李春萍","201020103826",81.47,73.6,76.748,"合格","合格","拟聘用"]
["28","03","棠下镇滨江社区专职工作者","陈孟园","201020100121",77.8,75.9,76.66,"合格","合格","拟聘用"]
["29","03","棠下镇滨江社区专职工作者","李小花","201020100705",75.28,77.3,76.492,"合格","合格","拟聘用"]
["30","03","棠下镇滨江社区专职工作者","郭启杰","201020101126",87.34,69,76.336,"合格","合格","拟聘用"]
["31","03","棠下镇滨江社区专职工作者","韩沛怡","201020102110",73.56,76.3,75.204,"合格","合格","拟聘用"]
["32","04","荷塘社区专职工作者","陈佩贤","201020101924","83.16",79.7,{"$f":"F35*40%+G35*60%","v":81.084},"合格","合格","拟聘用"]
["33","04","荷塘社区专职工作者","李庆添","201020100426","78.63",82.5,80.952,"合格","合格","拟聘用"]
["34","04","荷塘社区专职工作者","胡丽颜","201020102303","73.59",81.4,78.276,"合格","合格","拟聘用"]
["35","04","荷塘社区专职工作者","容倩琼","201020102125","80.32",76.6,78.088,"合格","合格","拟聘用"]
["36","04","荷塘社区专职工作者","黎凤敏","201020102606","77.29",78.3,77.896,"合格","合格","拟聘用"]
["37","04","荷塘社区专职工作者","黎聆枫","201020101010","74.1",79.8,77.52,"合格","合格","拟聘用"]
["38","04","荷塘社区专职工作者","李彩卿","201020101103","71.33",80.1,76.592,"合格","合格","拟聘用"]
["39","04","荷塘社区专职工作者","黎宝莹","201020100901","77.23",74.5,75.592,"合格","合格","拟聘用"]
["40","04","荷塘社区专职工作者","黄晓媚","201020100204","71.9",73.9,73.1,"合格","合格","拟聘用"]
["41","04","荷塘社区专职工作者","容登仑","201020103502","73.27",71.8,72.388,"合格","合格","拟聘用"]
["42","04","荷塘社区专职工作者","黎子宇","201020104022","80.32",60.6,68.488,"合格","合格","拟聘用"]
["43","05","杜阮中心社区专职工作者","黄千平","201020100615","82.3",81.6,81.88,"合格","合格","拟聘用"]
["44","05","杜阮中心社区专职工作者","周梓豪","201020102904","83.13",74.8,78.132,"合格","合格","拟聘用"]
["45","05","杜阮中心社区专职工作者","陈美玲","201020100214","80.64",69.3,73.836,"合格","合格","拟聘用"]
["46","05","杜阮中心社区专职工作者","简美娴","201020103218","75.28",65.1,69.172,"合格","合格","拟聘用"]
["47","05","杜阮中心社区专职工作者","黄镇强","201020103012","78.63",61.4,68.292,"合格","合格","拟聘用"]
["48","05","杜阮中心社区专职工作者","黄颖林","201020104605","67.98",68.3,68.172,"合格","合格","拟聘用"]
["49","06","杜阮新河社区专职工作者","周景添","201020102930","81.47",65.5,71.888,"合格","合格","拟聘用"]
["50","06","杜阮新河社区专职工作者","曹忠冠","201020100922","69.92",71.6,70.928,"合格","合格","拟聘用"]
["51","07","杜阮金朗社区专职工作者","尹嘉俊","201020100322","92.41",77.9,83.704,"合格","合格","拟聘用"]
["52","07","杜阮金朗社区专职工作者","张健桢","201020101420","83.13",82.4,82.692,"合格","合格","拟聘用"]
["53","07","杜阮金朗社区专职工作者","陈毅俊","201020102514","90.72",74.9,81.228,"合格","合格","拟聘用"]
["54","07","杜阮金朗社区专职工作者","李俊杰","201020103018","90.4",72.8,79.84,"合格","合格","拟聘用"]
["55","07","杜阮金朗社区专职工作者","李杏敏","201020103907","78.31",78.6,78.484,"合格","合格","拟聘用"]
["56","07","杜阮金朗社区专职工作者","李宝瑜","201020104523","73.56",81.7,78.444,"合格","合格","拟聘用"]
["57","07","杜阮金朗社区专职工作者","王志杰","201020104201","81.12",75.2,77.568,"合格","合格","拟聘用"]
["58","07","杜阮金朗社区专职工作者","崔荣业","201020102026","84.24",72.6,77.256,"合格","合格","拟聘用"]
["59","07","杜阮金朗社区专职工作者","陈志权","201020101717","80.32",74.2,76.648,"合格","合格","拟聘用"]
["60","07","杜阮金朗社区专职工作者","黄颖瑜","201020104204","67.05",81.9,75.96,"合格","合格","拟聘用"]
["61","07","杜阮金朗社区专职工作者","陈汉文","201020102817","80",69.6,73.76,"合格","合格","拟聘用"]
["62","07","杜阮金朗社区专职工作者","黄静珊","201020102912","66",75,71.4,"合格","合格","拟聘用"]
["63","08","杜阮瑶村社区专职工作者","简丽琴","201020100428","79.78",78.8,79.192,"合格","合格","拟聘用"]
["64","08","杜阮瑶村社区专职工作者","区曼娆","201020100627","82.84",68.6,74.296,"合格","合格","拟聘用"]
["65","08","杜阮瑶村社区专职工作者","区钰瑜","201020102603","79.78",68.7,73.132,"合格","合格","拟聘用"]
["66","09","环市街社区专职工作者A片区","黎昕彤","201020102324","88.2",82.7,84.9,"合格","合格","拟聘用"]
["67","09","环市街社区专职工作者A片区","梁敏玲","201020105304","82.3",83.2,82.84,"合格","合格","拟聘用"]
["68","09","环市街社区专职工作者A片区","马倩君","201020100722","83.7",81.3,82.26,"合格","合格","拟聘用"]
["69","09","环市街社区专职工作者A片区","吴宇欣","201020105218","89.89",76.6,81.916,"合格","合格","拟聘用"]
["70","09","环市街社区专职工作者A片区","黄景瀚","201020100620","89.89",75.3,81.136,"合格","合格","拟聘用"]
["71","09","环市街社区专职工作者A片区","黎铭鹍","201020101516","88.2",76.1,80.94,"合格","合格","拟聘用"]
["72","09","环市街社区专职工作者A片区","潘晓萍","201020103504","89.03",75.5,80.912,"合格","合格","拟聘用"]
["73","09","环市街社区专职工作者A片区","林诗敏","201020104919","89.89",74.9,80.896,"合格","合格","拟聘用"]
["74","09","环市街社区专职工作者A片区","甄志威","201020103518","85.68",77.3,80.652,"合格","合格","拟聘用"]
["75","09","环市街社区专职工作者A片区","林海珊","201020102915","82.01",77.2,79.124,"合格","合格","拟聘用"]
["76","09","环市街社区专职工作者A片区","谭健芳","201020102124","81.69",75.4,77.916,"合格","合格","拟聘用"]
["77","09","环市街社区专职工作者A片区","陈小蝶","201020103312","82.3",72.9,76.66,"合格","合格","拟聘用"]
["78","09","环市街社区专职工作者A片区","吕美怡","201020102328","76.94",76,76.376,"合格","合格","拟聘用"]
["79","09","环市街社区专职工作者A片区","谢颖杰","201020102130","86.51",69.1,76.064,"合格","合格","拟聘用"]
["80","09","环市街社区专职工作者A片区","林智清","201020100530","84.53",70.1,75.872,"合格","合格","拟聘用"]
["81","09","环市街社区专职工作者A片区","张惠燕","201020100805","74.13",76.7,75.672,"合格","合格","拟聘用"]
["82","09","环市街社区专职工作者A片区","谭婉滢","201020104630","80.64",72.2,75.576,"合格","合格","拟聘用"]
["83","09","环市街社区专职工作者A片区","邓嘉怡","201020102401","80.54",71.2,74.936,"合格","合格","拟聘用"]
["84","09","环市街社区专职工作者A片区","张雯","201020101604","77.8",72.8,74.8,"合格","合格","拟聘用"]
["85","09","环市街社区专职工作者A片区","陈珏君","201020102226","75.54",74.3,74.796,"合格","合格","拟聘用"]
["86","09","环市街社区专职工作者A片区","赵昊天","201020100811","85.39",67.7,74.776,"合格","合格","拟聘用"]
["87","09","环市街社区专职工作者A片区","彭思敏","201020104102","78.09",72.5,74.736,"合格","合格","拟聘用"]
["88","09","环市街社区专职工作者A片区","周健兴","201020101130","80.32",69.6,73.888,"合格","合格","拟聘用"]
["89","09","环市街社区专职工作者A片区","梁泳欣","201020104217","65.43",78.9,73.512,"合格","合格","拟聘用"]
["90","09","环市街社区专职工作者A片区","李焯均","201020102712","75.57",72.1,73.488,"合格","合格","拟聘用"]
["91","09","环市街社区专职工作者A片区","吕淑连","201020104606","75.28",71.8,73.192,"合格","合格","拟聘用"]
["92","09","环市街社区专职工作者A片区","何凡略","201020104818","80.61",68.1,73.104,"合格","合格","拟聘用"]
["93","09","环市街社区专职工作者A片区","骆纳英","201020103222","83.7",65.6,72.84,"合格","合格","拟聘用"]
["94","09","环市街社区专职工作者A片区","吴睿","201020103514","83.16",65.4,72.504,"合格","合格","拟聘用"]
["95","10","环市街社区专职工作者B片区","杨绮梅","201020100409","86.73",85.5,85.992,"合格","合格","拟聘用"]
["96","10","环市街社区专职工作者B片区","陈艳玉","201020104117","84.53",82.9,83.552,"合格","合格","拟聘用"]
["97","10","环市街社区专职工作者B片区","黄诗琪","201020100420","74.71",86.2,81.604,"合格","合格","拟聘用"]
["98","10","环市街社区专职工作者B片区","吴天阳","201020103830","87.05",77.8,81.5,"合格","合格","拟聘用"]
["99","10","环市街社区专职工作者B片区","毛江林","201020100727","83.16",77.5,79.764,"合格","合格","拟聘用"]
["100","10","环市街社区专职工作者B片区","刘梦莎","201020104816","83.7",76.8,79.56,"合格","合格","拟聘用"]
["101","10","环市街社区专职工作者B片区","司徒管娣","201020102111","87.05",73.1,78.68,"合格","合格","拟聘用"]
["102","10","环市街社区专职工作者B片区","廖懋柱","201020104927","78.92",77.6,78.128,"合格","合格","拟聘用"]
["103","10","环市街社区专职工作者B片区","伍世文","201020100924","84.02",73.5,77.708,"合格","合格","拟聘用"]
["104","10","环市街社区专职工作者B片区","罗贻擎","201020102802","84.82",72.6,77.488,"合格","合格","拟聘用"]
["105","10","环市街社区专职工作者B片区","李敏健","201020101903","80.32",71.1,74.788,"合格","合格","拟聘用"]
["106","10","环市街社区专职工作者B片区","莫怡慧","201020104729","74.39",74.9,74.696,"合格","合格","拟聘用"]
["107","10","环市街社区专职工作者B片区","韦德发","201020101421","78.66",71.3,74.244,"合格","合格","拟聘用"]
["108","10","环市街社区专职工作者B片区","蔡江柏","201020102812","79.78",66.3,71.692,"合格","合格","拟聘用"]
["109","10","环市街社区专职工作者B片区","甘丽婵","201020102527","68.23",73.6,71.452,"合格","合格","拟聘用"]
["110","10","环市街社区专职工作者B片区","王琪","201020100102","79.81",64.5,70.624,"合格","合格","拟聘用"]
["111","10","环市街社区专职工作者B片区","朱金霞","201020101724","82.52",61.7,70.028,"合格","合格","拟聘用"]
["112","10","环市街社区专职工作者B片区","饶静英","201020103904","77.26",64.9,69.844,"合格","合格","拟聘用"]
["113","10","环市街社区专职工作者B片区","刘鹏进","201020103003","76.94",63.7,68.996,"合格","合格","拟聘用"]
["114","10","环市街社区专职工作者B片区","张杰斯","201020103605","74.74",63.5,67.996,"合格","合格","拟聘用"]
["115","10","环市街社区专职工作者B片区","冯红玉","201020104304","73.05",64.5,67.92,"合格","合格","拟聘用"]
["116","10","环市街社区专职工作者B片区","莫嘉敏","201020103622","71.07",64.7,67.248,"合格","合格","拟聘用"]
["117","10","环市街社区专职工作者B片区","黄海鹏","201020100513","69.86",64.8,66.824,"合格","合格","拟聘用"]
["118","10","环市街社区专职工作者B片区","赵慧萍","201020100616","70.18",61.6,65.032,"合格","合格","拟聘用"]
["119","10","环市街社区专职工作者B片区","邓雅雅","201020101408","61.76",62.9,62.444,"合格","合格","拟聘用"]
["120","10","环市街社区专职工作者B片区","林燕如","201020103801","59.56",63.2,61.744,"合格","合格","拟聘用"]
["121","11","环市街社区专职工作者C片区","陈颂晖","201020102922","86.22",87,86.688,"合格","合格","拟聘用"]
["122","11","环市街社区专职工作者C片区","刘泳华","201020104413","84.02",86.3,85.388,"合格","合格","拟聘用"]
["123","11","环市街社区专职工作者C片区","王超华","201020105115","89.03",82.8,85.292,"合格","合格","拟聘用"]
["124","11","环市街社区专职工作者C片区","杨嘉乐","201020100611","90.4",81.1,84.82,"合格","合格","拟聘用"]
["125","11","环市街社区专职工作者C片区","黎珈希","201020101206","82.01",86.3,84.584,"合格","合格","拟聘用"]
["126","11","环市街社区专职工作者C片区","李苑婷","201020101911","84.53",82.8,83.492,"合格","合格","拟聘用"]
["127","11","环市街社区专职工作者C片区","黄嘉怡","201020103828","87.88",80.5,83.452,"合格","合格","拟聘用"]
["128","11","环市街社区专职工作者C片区","黄译贤","201020103208","82.3",83.4,82.96,"合格","合格","拟聘用"]
["129","11","环市街社区专职工作者C片区","朱明朗","201020101403","88.2",75,80.28,"合格","合格","拟聘用"]
["130","11","环市街社区专职工作者C片区","吕慧怡","201020104807","84.24",77.4,80.136,"合格","合格","拟聘用"]
["131","11","环市街社区专职工作者C片区","李梓良","201020104123","90.4",73.2,80.08,"合格","合格","拟聘用"]
["132","11","环市街社区专职工作者C片区","黄筱梅","201020103207","78.12",80.7,79.668,"合格","合格","拟聘用"]
["133","11","环市街社区专职工作者C片区","何梓鹏","201020101627","84.02",75.7,79.028,"合格","合格","拟聘用"]
["134","11","环市街社区专职工作者C片区","区小玲","201020102628","71.61",82.3,78.024,"合格","合格","拟聘用"]
["135","11","环市街社区专职工作者C片区","刘格溢","201020105305","80.61",74.4,76.884,"合格","合格","拟聘用"]
["136","11","环市街社区专职工作者C片区","黄银笑","201020104521","77.26",75.2,76.024,"合格","合格","拟聘用"]
["137","11","环市街社区专职工作者C片区","陈月霞","201020103214","74.96",76.1,75.644,"合格","合格","拟聘用"]
["138","11","环市街社区专职工作者C片区","陈晓程","201020102107","71.87",78.1,75.608,"合格","合格","拟聘用"]
["139","11","环市街社区专职工作者C片区","周嘉雯","201020100122","79.17",72.3,75.048,"合格","合格","拟聘用"]
["140","11","环市街社区专职工作者C片区","仇妙欣","201020101912","78.63",72.4,74.892,"合格","合格","拟聘用"]
["141","11","环市街社区专职工作者C片区","张玉光","201020100603","76.97",72.3,74.168,"合格","合格","拟聘用"]
["142","11","环市街社区专职工作者C片区","严银爱","201020104529","74.42",73.9,74.108,"合格","合格","拟聘用"]
["143","11","环市街社区专职工作者C片区","覃昌华","201020104501","74.42",73.2,73.688,"合格","合格","拟聘用"]
["144","11","环市街社区专职工作者C片区","黄艳莹","201020102103","75.25",72,73.3,"合格","合格","拟聘用"]
["145","11","环市街社区专职工作者C片区","翁紫莹","201020102305","73.56",72.9,73.164,"合格","合格","拟聘用"]
["146","11","环市街社区专职工作者C片区","赵朗荣","201020103101","67.69",76.7,73.096,"合格","合格","拟聘用"]
["147","11","环市街社区专职工作者C片区","罗彩红","201020104714","81.15",66.3,72.24,"合格","合格","拟聘用"]
["148","11","环市街社区专职工作者C片区","赵晓琳","201020101101","76.94",68,71.576,"合格","合格","拟聘用"]
["149","12","环市街社区专职工作者D片区","冯健辉","201020104623","92.41",80.7,85.384,"合格","合格","拟聘用"]
["150","12","环市街社区专职工作者D片区","黄靖宏","201020101607","92.41",76.6,82.924,"合格","合格","拟聘用"]
["151","12","环市街社区专职工作者D片区","尹素媚","201020101527","88.2",79.4,82.92,"合格","合格","拟聘用"]
["152","12","环市街社区专职工作者D片区","陈绍基","201020103515","81.47",80.2,80.708,"合格","合格","拟聘用"]
["153","12","环市街社区专职工作者D片区","张锦城","201020100914","82.84",79.1,80.596,"合格","合格","拟聘用"]
["154","12","环市街社区专职工作者D片区","陈颖琳","201020103827","83.7",77.7,80.1,"合格","合格","拟聘用"]
["155","12","环市街社区专职工作者D片区","符樱兰","201020102230","76.11",82.7,80.064,"合格","合格","拟聘用"]
["156","12","环市街社区专职工作者D片区","林燕华","201020102806","87.05",75.4,80.06,"合格","合格","拟聘用"]
["157","12","环市街社区专职工作者D片区","冯楚婷","201020103912","88.2",74,79.68,"合格","合格","拟聘用"]
["158","12","环市街社区专职工作者D片区","何懿","201020104015","89.03",70.5,77.912,"合格","合格","拟聘用"]
["159","12","环市街社区专职工作者D片区","宋长森","201020103024","73.84",80.4,77.776,"合格","合格","拟聘用"]
["160","12","环市街社区专职工作者D片区","连莉莉","201020100402","83.13",72.9,76.992,"合格","合格","拟聘用"]
["161","12","环市街社区专职工作者D片区","王娜","201020101825","87.37",69.6,76.708,"合格","合格","拟聘用"]
["162","12","环市街社区专职工作者D片区","吕慧琼","201020102229","72.95",77.6,75.74,"合格","合格","拟聘用"]
["163","12","环市街社区专职工作者D片区","张宝琴","201020101106","69.89",79.6,75.716,"合格","合格","拟聘用"]
["164","12","环市街社区专职工作者D片区","陈凯珊","201020101728","78.02",73.9,75.548,"合格","合格","拟聘用"]
["165","12","环市街社区专职工作者D片区","欧阳兆臻","201020102122","79.78",72.7,75.532,"合格","合格","拟聘用"]
["166","12","环市街社区专职工作者D片区","温婉敏","201020102705","72.19",76.8,74.956,"合格","合格","拟聘用"]
["167","12","环市街社区专职工作者D片区","胡铭慧","201020103714","83.7",68.7,74.7,"合格","合格","拟聘用"]
["168","12","环市街社区专职工作者D片区","唐秋燕","201020101320","80.32",70.7,74.548,"合格","合格","拟聘用"]
["169","12","环市街社区专职工作者D片区","邓务贞","201020103027","65.97",80.2,74.508,"合格","合格","拟聘用"]
["170","12","环市街社区专职工作者D片区","梁钰佩","201020105122","77.26",72.2,74.224,"合格","合格","拟聘用"]
["171","12","环市街社区专职工作者D片区","杨婉平","201020103506","76.94",72,73.976,"合格","合格","拟聘用"]
["172","12","环市街社区专职工作者D片区","谭静雯","201020100416","72.22",73.6,73.048,"合格","合格","拟聘用"]
["173","12","环市街社区专职工作者D片区","郑金花","201020103315","62.62",79.6,72.808,"合格","合格","拟聘用"]
["174","12","环市街社区专职工作者D片区","陈小萍","201020100319","76.08",69.8,72.312,"合格","合格","拟聘用"]
["175","12","环市街社区专职工作者D片区","林昌锴","201020104430","69.89",73.2,71.876,"合格","合格","拟聘用"]
["176","12","环市街社区专职工作者D片区","周丽珊","201020101917","68.74",73.8,71.776,"合格","合格","拟聘用"]
["177","12","环市街社区专职工作者D片区","奚扬扬","201020103529","73.27",70.6,71.668,"合格","合格","拟聘用"]
["178","12","环市街社区专职工作者D片区","陈仲爱","201020102813","67.95",73.8,71.46,"合格","合格","拟聘用"]
["179","13","环市街社区专职工作者E片区","许少玲","201020100414","90.43",89.1,89.632,"合格","合格","拟聘用"]
["180","13","环市街社区专职工作者E片区","黄艳桃","201020101414","85.65",83.6,84.42,"合格","合格","拟聘用"]
["181","13","环市街社区专职工作者E片区","李国鹏","201020101226","92.95",75.7,82.6,"合格","合格","拟聘用"]
["182","13","环市街社区专职工作者E片区","朱国利","201020100917","73.88",85.1,80.612,"合格","合格","拟聘用"]
["183","13","环市街社区专职工作者E片区","戴剑华","201020103721","78.63",79.1,78.912,"合格","合格","拟聘用"]
["184","13","环市街社区专职工作者E片区","谢瑶","201020104219","81.15",75.1,77.52,"合格","合格","拟聘用"]
["185","13","环市街社区专职工作者E片区","刘雨桐","201020102927","80.03",72.9,75.752,"合格","合格","拟聘用"]
["186","13","环市街社区专职工作者E片区","陈艳薇","201020104716","63.16",81.6,74.224,"合格","合格","拟聘用"]
["187","13","环市街社区专职工作者E片区","潘君仪","201020101023","78.31",70.9,73.864,"合格","合格","拟聘用"]
["188","13","环市街社区专职工作者E片区","刘志勇","201020103925","65.9",75,71.36,"合格","合格","拟聘用"]
["189","13","环市街社区专职工作者E片区","梁清怡","201020102524","74.39",66.9,69.896,"合格","合格","拟聘用"]
["190","13","环市街社区专职工作者E片区","施桂滨","201020103011","67.69",71.1,69.736,"合格","合格","拟聘用"]
["191","13","环市街社区专职工作者E片区","区嘉诚","201020101017","67.98",61.9,64.332,"合格","合格","拟聘用"]
["192","14","环市街社区专职工作者F片区","林春凤","201020101704","85.39",82.7,83.776,"合格","合格","拟聘用"]
["193","14","环市街社区专职工作者F片区","李嘉琦","201020100629","86.22",76.8,80.568,"合格","合格","拟聘用"]
["194","14","环市街社区专职工作者F片区","余雅玲","201020102719","85.36",75.8,79.624,"合格","合格","拟聘用"]
["195","14","环市街社区专职工作者F片区","吕婉莹","201020103819","78.34",77.9,78.076,"合格","合格","拟聘用"]
["196","14","环市街社区专职工作者F片区","梁婵娟","201020103206","78.6",77.6,78,"合格","合格","拟聘用"]
["197","14","环市街社区专职工作者F片区","区静韵","201020100920","69.03",83.5,77.712,"合格","合格","拟聘用"]
["198","14","环市街社区专职工作者F片区","邓皓文","201020101603","73.27",80.1,77.368,"合格","合格","拟聘用"]
["199","14","环市街社区专职工作者F片区","徐友凤","201020104712","81.69",73.8,76.956,"合格","合格","拟聘用"]
["200","14","环市街社区专职工作者F片区","关鹏飞","201020100212","89.06",67.6,76.184,"合格","合格","拟聘用"]
["201","14","环市街社区专职工作者F片区","谢婉莹","201020105321","78.63",73.1,75.312,"合格","合格","拟聘用"]
["202","14","环市街社区专职工作者F片区","王林琳","201020103102","76.94",73.6,74.936,"合格","合格","拟聘用"]
["203","14","环市街社区专职工作者F片区","胡佩娴","201020104220","80.61",70.9,74.784,"合格","合格","拟聘用"]
["204","14","环市街社区专职工作者F片区","林楠皓","201020104827","84.5",66.4,73.64,"合格","合格","拟聘用"]
["205","14","环市街社区专职工作者F片区","关淑恬","201020103126","83.06",66.7,73.244,"合格","合格","拟聘用"]
["206","14","环市街社区专职工作者F片区","林贵强","201020100716","83.99",65.7,73.016,"合格","合格","拟聘用"]
["207","14","环市街社区专职工作者F片区","李智敏","201020102821","74.1",69.3,71.22,"合格","合格","拟聘用"]
["208","14","环市街社区专职工作者F片区","曾祥岳","201020100910","75.25",68.4,71.14,"合格","合格","拟聘用"]
["209","14","环市街社区专职工作者F片区","关永健","201020104526","73.59",68.9,70.776,"合格","合格","拟聘用"]
["210","14","环市街社区专职工作者F片区","张艳停","201020103421","76.62",66.2,70.368,"合格","合格","拟聘用"]
["211","14","环市街社区专职工作者F片区","李淑贞","201020100123","71.9",69.3,70.34,"合格","合格","拟聘用"]
["212","14","环市街社区专职工作者F片区","陈华枚","201020101529","79.75",63.4,69.94,"合格","合格","拟聘用"]
["213","14","环市街社区专职工作者F片区","吴沃华","201020105006","78.95",63.3,69.56,"合格","合格","拟聘用"]
["214","14","环市街社区专职工作者F片区","钟伟杰","201020101308","79.78",61,68.512,"合格","合格","拟聘用"]
["215","14","环市街社区专职工作者F片区","刘婵","201020105127","63.64",71.6,68.416,"合格","合格","拟聘用"]
["216","14","环市街社区专职工作者F片区","刘雪娇","201020100429","70.5",66.8,68.28,"合格","合格","拟聘用"]
["217","14","环市街社区专职工作者F片区","冯翠芬","201020103410","67.66",67.6,67.624,"合格","合格","拟聘用"]
["218","14","环市街社区专职工作者F片区","容羡瑜","201020104710","66.54",67,66.816,"合格","合格","拟聘用"]
["219","14","环市街社区专职工作者F片区","郭曼","201020102410","67.4",66.4,66.8,"合格","合格","拟聘用"]
["220","15","环市街社区专职工作者G片区","李涛","201020100709","85.68",83.3,84.252,"合格","合格","拟聘用"]
["221","15","环市街社区专职工作者G片区","王艺涵","201020104112","90.43",79.9,84.112,"合格","合格","拟聘用"]
["222","15","环市街社区专职工作者G片区","李丽梅","201020103729","93.27",76.7,83.328,"合格","合格","拟聘用"]
["223","15","环市街社区专职工作者G片区","杨彩珠","201020100422","82.52",82.3,82.388,"合格","合格","拟聘用"]
["224","15","环市街社区专职工作者G片区","马羡虹","201020103314","80.32",82.2,81.448,"合格","合格","拟聘用"]
["225","15","环市街社区专职工作者G片区","李嘉欣","201020103718","78.66",82,80.664,"合格","合格","拟聘用"]
["226","15","环市街社区专职工作者G片区","叶丽淇","201020100713","78.92",79.3,79.148,"合格","合格","拟聘用"]
["227","15","环市街社区专职工作者G片区","李荣亮","201020100808","94.1",68.4,78.68,"合格","合格","拟聘用"]
["228","15","环市街社区专职工作者G片区","朱翠娟","201020100912","83.16",71.6,76.224,"合格","合格","拟聘用"]
["229","15","环市街社区专职工作者G片区","李翠卿","201020102207","72.41",78.1,75.824,"合格","合格","拟聘用"]
["230","15","环市街社区专职工作者G片区","文锦豪","201020100515","80",71.7,75.02,"合格","合格","拟聘用"]
["231","15","环市街社区专职工作者G片区","李天欣","201020103511","70.75",77.2,74.62,"合格","合格","拟聘用"]
["232","15","环市街社区专职工作者G片区","李业鹏","201020101216","79.17",70.9,74.208,"合格","合格","拟聘用"]
["233","15","环市街社区专职工作者G片区","李用琼","201020102223","74.39",74,74.156,"合格","合格","拟聘用"]
["234","15","环市街社区专职工作者G片区","容小玲","201020100610","80.64",69.8,74.136,"合格","合格","拟聘用"]
["235","15","环市街社区专职工作者G片区","汤思茗","201020103513","80.86",68.2,73.264,"合格","合格","拟聘用"]
["236","15","环市街社区专职工作者G片区","文嘉荣","201020100807","80.32",66.2,71.848,"合格","合格","拟聘用"]
["237","15","环市街社区专职工作者G片区","陈雯","201020101005","72.73",68.3,70.072,"合格","合格","拟聘用"]
["238","15","环市街社区专职工作者G片区","邓家泳","201020102816","71.36",67.6,69.104,"合格","合格","拟聘用"]
["239","15","环市街社区专职工作者G片区","林宝贤","201020101715","59.59",67,64.036,"合格","合格","拟聘用"]
["240","16","白沙街社区专职工作者A片区","张惠源","201020100311",{"$f":"VLOOKUP(D243,[1]Sheet1!$E$2:$H$235,2,0)","v":92.41},{"$f":"VLOOKUP(D243,[1]Sheet1!$E$2:$H$235,3,0)","v":83.1},{"$f":"VLOOKUP(D243,[1]Sheet1!$E$2:$H$235,4,0)","v":86.824},"合格","合格","拟聘用"]
["241","16","白沙街社区专职工作者A片区","张宇皓","201020101114",{"$f":"VLOOKUP(D244,[1]Sheet1!$E$2:$H$235,2,0)","v":92.44},{"$f":"VLOOKUP(D244,[1]Sheet1!$E$2:$H$235,3,0)","v":82.9},{"$f":"VLOOKUP(D244,[1]Sheet1!$E$2:$H$235,4,0)","v":86.716},"合格","合格","拟聘用"]
["242","16","白沙街社区专职工作者A片区","陈俊谕","201020101427",{"$f":"VLOOKUP(D245,[1]Sheet1!$E$2:$H$235,2,0)","v":89.03},{"$f":"VLOOKUP(D245,[1]Sheet1!$E$2:$H$235,3,0)","v":80.8},{"$f":"VLOOKUP(D245,[1]Sheet1!$E$2:$H$235,4,0)","v":84.092},"合格","合格","拟聘用"]
["243","16","白沙街社区专职工作者A片区","谢钰婷","201020102507",{"$f":"VLOOKUP(D246,[1]Sheet1!$E$2:$H$235,2,0)","v":83.38},{"$f":"VLOOKUP(D246,[1]Sheet1!$E$2:$H$235,3,0)","v":80.2},{"$f":"VLOOKUP(D246,[1]Sheet1!$E$2:$H$235,4,0)","v":81.472},"合格","合格","拟聘用"]
["244","16","白沙街社区专职工作者A片区","郑嘉嘉","201020104103",{"$f":"VLOOKUP(D247,[1]Sheet1!$E$2:$H$235,2,0)","v":79.81},{"$f":"VLOOKUP(D247,[1]Sheet1!$E$2:$H$235,3,0)","v":80.9},{"$f":"VLOOKUP(D247,[1]Sheet1!$E$2:$H$235,4,0)","v":80.464},"合格","合格","拟聘用"]
["245","16","白沙街社区专职工作者A片区","徐骏杰","201020103901",{"$f":"VLOOKUP(D248,[1]Sheet1!$E$2:$H$235,2,0)","v":79.78},{"$f":"VLOOKUP(D248,[1]Sheet1!$E$2:$H$235,3,0)","v":79.7},{"$f":"VLOOKUP(D248,[1]Sheet1!$E$2:$H$235,4,0)","v":79.732},"合格","合格","拟聘用"]
["246","16","白沙街社区专职工作者A片区","谢文钊","201020102414",{"$f":"VLOOKUP(D249,[1]Sheet1!$E$2:$H$235,2,0)","v":85.36},{"$f":"VLOOKUP(D249,[1]Sheet1!$E$2:$H$235,3,0)","v":75.8},{"$f":"VLOOKUP(D249,[1]Sheet1!$E$2:$H$235,4,0)","v":79.624},"合格","合格","拟聘用"]
["247","16","白沙街社区专职工作者A片区","梁银欢","201020102916",{"$f":"VLOOKUP(D250,[1]Sheet1!$E$2:$H$235,2,0)","v":86.19},{"$f":"VLOOKUP(D250,[1]Sheet1!$E$2:$H$235,3,0)","v":73.7},{"$f":"VLOOKUP(D250,[1]Sheet1!$E$2:$H$235,4,0)","v":78.696},"合格","合格","拟聘用"]
["248","16","白沙街社区专职工作者A片区","汤诗敏","201020102020",{"$f":"VLOOKUP(D251,[1]Sheet1!$E$2:$H$235,2,0)","v":85.9},{"$f":"VLOOKUP(D251,[1]Sheet1!$E$2:$H$235,3,0)","v":73.6},{"$f":"VLOOKUP(D251,[1]Sheet1!$E$2:$H$235,4,0)","v":78.52},"合格","合格","拟聘用"]
["249","16","白沙街社区专职工作者A片区","陆顺甜","201020104422",{"$f":"VLOOKUP(D252,[1]Sheet1!$E$2:$H$235,2,0)","v":79.78},{"$f":"VLOOKUP(D252,[1]Sheet1!$E$2:$H$235,3,0)","v":74.8},{"$f":"VLOOKUP(D252,[1]Sheet1!$E$2:$H$235,4,0)","v":76.792},"合格","合格","拟聘用"]
["250","16","白沙街社区专职工作者A片区","张月娥","201020104926",{"$f":"VLOOKUP(D253,[1]Sheet1!$E$2:$H$235,2,0)","v":82.23},{"$f":"VLOOKUP(D253,[1]Sheet1!$E$2:$H$235,3,0)","v":72.4},{"$f":"VLOOKUP(D253,[1]Sheet1!$E$2:$H$235,4,0)","v":76.332},"合格","合格","拟聘用"]
["251","16","白沙街社区专职工作者A片区","张嘉仪","201020103429",{"$f":"VLOOKUP(D254,[1]Sheet1!$E$2:$H$235,2,0)","v":77.16},{"$f":"VLOOKUP(D254,[1]Sheet1!$E$2:$H$235,3,0)","v":74.3},{"$f":"VLOOKUP(D254,[1]Sheet1!$E$2:$H$235,4,0)","v":75.444},"合格","合格","拟聘用"]
["252","16","白沙街社区专职工作者A片区","何燕玲","201020102316",{"$f":"VLOOKUP(D255,[1]Sheet1!$E$2:$H$235,2,0)","v":84.53},{"$f":"VLOOKUP(D255,[1]Sheet1!$E$2:$H$235,3,0)","v":69.3},{"$f":"VLOOKUP(D255,[1]Sheet1!$E$2:$H$235,4,0)","v":75.392},"合格","合格","拟聘用"]
["253","16","白沙街社区专职工作者A片区","郑智坚","201020100702",{"$f":"VLOOKUP(D256,[1]Sheet1!$E$2:$H$235,2,0)","v":69.35},{"$f":"VLOOKUP(D256,[1]Sheet1!$E$2:$H$235,3,0)","v":79.2},{"$f":"VLOOKUP(D256,[1]Sheet1!$E$2:$H$235,4,0)","v":75.26},"合格","合格","拟聘用"]
["254","16","白沙街社区专职工作者A片区","许丽琼","201020104503",{"$f":"VLOOKUP(D257,[1]Sheet1!$E$2:$H$235,2,0)","v":64.53},{"$f":"VLOOKUP(D257,[1]Sheet1!$E$2:$H$235,3,0)","v":82},{"$f":"VLOOKUP(D257,[1]Sheet1!$E$2:$H$235,4,0)","v":75.012},"合格","合格","拟聘用"]
["255",16,"白沙街社区专职工作者A片区","张金燕","201020103906",{"$f":"VLOOKUP(D258,[1]Sheet1!$E$2:$H$235,2,0)","v":67.66},{"$f":"VLOOKUP(D258,[1]Sheet1!$E$2:$H$235,3,0)","v":77.8},{"$f":"VLOOKUP(D258,[1]Sheet1!$E$2:$H$235,4,0)","v":73.744},"合格","合格","拟聘用"]
["256","16","白沙街社区专职工作者A片区","朱佩珍","201020101329",{"$f":"VLOOKUP(D259,[1]Sheet1!$E$2:$H$235,2,0)","v":73.88},{"$f":"VLOOKUP(D259,[1]Sheet1!$E$2:$H$235,3,0)","v":73.4},{"$f":"VLOOKUP(D259,[1]Sheet1!$E$2:$H$235,4,0)","v":73.592},"合格","合格","拟聘用"]
["257",16,"白沙街社区专职工作者A片区","许裕朋","201020103305",{"$f":"VLOOKUP(D260,[1]Sheet1!$E$2:$H$235,2,0)","v":83.13},{"$f":"VLOOKUP(D260,[1]Sheet1!$E$2:$H$235,3,0)","v":65.8},{"$f":"VLOOKUP(D260,[1]Sheet1!$E$2:$H$235,4,0)","v":72.732},"合格","合格","拟聘用"]
["258",16,"白沙街社区专职工作者A片区","李淑敏","201020101916",{"$f":"VLOOKUP(D261,[1]Sheet1!$E$2:$H$235,2,0)","v":66.83},{"$f":"VLOOKUP(D261,[1]Sheet1!$E$2:$H$235,3,0)","v":73.3},{"$f":"VLOOKUP(D261,[1]Sheet1!$E$2:$H$235,4,0)","v":70.712},"合格","合格","拟聘用"]
["259",16,"白沙街社区专职工作者A片区","钟文杰","201020104610",{"$f":"VLOOKUP(D262,[1]Sheet1!$E$2:$H$235,2,0)","v":74.74},{"$f":"VLOOKUP(D262,[1]Sheet1!$E$2:$H$235,3,0)","v":67},{"$f":"VLOOKUP(D262,[1]Sheet1!$E$2:$H$235,4,0)","v":70.096},"合格","合格","拟聘用"]
["260","17","白沙街社区专职工作者B片区","张国彬","201020102508",{"$f":"VLOOKUP(D263,[1]Sheet1!$E$2:$H$235,2,0)","v":92.95},{"$f":"VLOOKUP(D263,[1]Sheet1!$E$2:$H$235,3,0)","v":77.5},{"$f":"VLOOKUP(D263,[1]Sheet1!$E$2:$H$235,4,0)","v":83.68},"合格","合格","拟聘用"]
["261","17","白沙街社区专职工作者B片区","梁健","201020102929",{"$f":"VLOOKUP(D264,[1]Sheet1!$E$2:$H$235,2,0)","v":91.29},{"$f":"VLOOKUP(D264,[1]Sheet1!$E$2:$H$235,3,0)","v":77.8},{"$f":"VLOOKUP(D264,[1]Sheet1!$E$2:$H$235,4,0)","v":83.196},"合格","合格","拟聘用"]
["262","17","白沙街社区专职工作者B片区","吴佩莹","201020100826",{"$f":"VLOOKUP(D265,[1]Sheet1!$E$2:$H$235,2,0)","v":85.39},{"$f":"VLOOKUP(D265,[1]Sheet1!$E$2:$H$235,3,0)","v":80},{"$f":"VLOOKUP(D265,[1]Sheet1!$E$2:$H$235,4,0)","v":82.156},"合格","合格","拟聘用"]
["263","17","白沙街社区专职工作者B片区","陈淑敏","201020102818",{"$f":"VLOOKUP(D266,[1]Sheet1!$E$2:$H$235,2,0)","v":86.22},{"$f":"VLOOKUP(D266,[1]Sheet1!$E$2:$H$235,3,0)","v":78.6},{"$f":"VLOOKUP(D266,[1]Sheet1!$E$2:$H$235,4,0)","v":81.648},"合格","合格","拟聘用"]
["264","17","白沙街社区专职工作者B片区","陈俊杰","201020103803",{"$f":"VLOOKUP(D267,[1]Sheet1!$E$2:$H$235,2,0)","v":86.51},{"$f":"VLOOKUP(D267,[1]Sheet1!$E$2:$H$235,3,0)","v":76.3},{"$f":"VLOOKUP(D267,[1]Sheet1!$E$2:$H$235,4,0)","v":80.384},"合格","合格","拟聘用"]
["265","17","白沙街社区专职工作者B片区","赖雅婷","201020102408",{"$f":"VLOOKUP(D268,[1]Sheet1!$E$2:$H$235,2,0)","v":86.73},{"$f":"VLOOKUP(D268,[1]Sheet1!$E$2:$H$235,3,0)","v":75.4},{"$f":"VLOOKUP(D268,[1]Sheet1!$E$2:$H$235,4,0)","v":79.932},"合格","合格","拟聘用"]
["266","17","白沙街社区专职工作者B片区","黄希岚","201020103115",{"$f":"VLOOKUP(D269,[1]Sheet1!$E$2:$H$235,2,0)","v":75.25},{"$f":"VLOOKUP(D269,[1]Sheet1!$E$2:$H$235,3,0)","v":81.8},{"$f":"VLOOKUP(D269,[1]Sheet1!$E$2:$H$235,4,0)","v":79.18},"合格","合格","拟聘用"]
["267","17","白沙街社区专职工作者B片区","何晓怡","201020101905",{"$f":"VLOOKUP(D270,[1]Sheet1!$E$2:$H$235,2,0)","v":85.39},{"$f":"VLOOKUP(D270,[1]Sheet1!$E$2:$H$235,3,0)","v":74.3},{"$f":"VLOOKUP(D270,[1]Sheet1!$E$2:$H$235,4,0)","v":78.736},"合格","合格","拟聘用"]
["268","17","白沙街社区专职工作者B片区","伍铭浩","201020104824",{"$f":"VLOOKUP(D271,[1]Sheet1!$E$2:$H$235,2,0)","v":83.7},{"$f":"VLOOKUP(D271,[1]Sheet1!$E$2:$H$235,3,0)","v":74.8},{"$f":"VLOOKUP(D271,[1]Sheet1!$E$2:$H$235,4,0)","v":78.36},"合格","合格","拟聘用"]
["269","17","白沙街社区专职工作者B片区","冯江亮","201020102002",{"$f":"VLOOKUP(D272,[1]Sheet1!$E$2:$H$235,2,0)","v":79.78},{"$f":"VLOOKUP(D272,[1]Sheet1!$E$2:$H$235,3,0)","v":73.9},{"$f":"VLOOKUP(D272,[1]Sheet1!$E$2:$H$235,4,0)","v":76.252},"合格","合格","拟聘用"]
["270","17","白沙街社区专职工作者B片区","吴嘉辉","201020105014",{"$f":"VLOOKUP(D273,[1]Sheet1!$E$2:$H$235,2,0)","v":82.52},{"$f":"VLOOKUP(D273,[1]Sheet1!$E$2:$H$235,3,0)","v":71.9},{"$f":"VLOOKUP(D273,[1]Sheet1!$E$2:$H$235,4,0)","v":76.148},"合格","合格","拟聘用"]
["271","17","白沙街社区专职工作者B片区","罗志明","201020101923",{"$f":"VLOOKUP(D274,[1]Sheet1!$E$2:$H$235,2,0)","v":90.72},{"$f":"VLOOKUP(D274,[1]Sheet1!$E$2:$H$235,3,0)","v":65.9},{"$f":"VLOOKUP(D274,[1]Sheet1!$E$2:$H$235,4,0)","v":75.828},"合格","合格","拟聘用"]
["272","17","白沙街社区专职工作者B片区","李晓诗","201020103629",{"$f":"VLOOKUP(D275,[1]Sheet1!$E$2:$H$235,2,0)","v":72.22},{"$f":"VLOOKUP(D275,[1]Sheet1!$E$2:$H$235,3,0)","v":78.2},{"$f":"VLOOKUP(D275,[1]Sheet1!$E$2:$H$235,4,0)","v":75.808},"合格","合格","拟聘用"]
["273","17","白沙街社区专职工作者B片区","阮绮雯","201020101720",{"$f":"VLOOKUP(D276,[1]Sheet1!$E$2:$H$235,2,0)","v":83.99},{"$f":"VLOOKUP(D276,[1]Sheet1!$E$2:$H$235,3,0)","v":70.3},{"$f":"VLOOKUP(D276,[1]Sheet1!$E$2:$H$235,4,0)","v":75.776},"合格","合格","拟聘用"]
["274","17","白沙街社区专职工作者B片区","禤月然","201020100403",{"$f":"VLOOKUP(D277,[1]Sheet1!$E$2:$H$235,2,0)","v":87.37},{"$f":"VLOOKUP(D277,[1]Sheet1!$E$2:$H$235,3,0)","v":67.6},{"$f":"VLOOKUP(D277,[1]Sheet1!$E$2:$H$235,4,0)","v":75.508},"合格","合格","拟聘用"]
["275","17","白沙街社区专职工作者B片区","朱丽昕","201020102023",{"$f":"VLOOKUP(D278,[1]Sheet1!$E$2:$H$235,2,0)","v":76.94},{"$f":"VLOOKUP(D278,[1]Sheet1!$E$2:$H$235,3,0)","v":74.2},{"$f":"VLOOKUP(D278,[1]Sheet1!$E$2:$H$235,4,0)","v":75.296},"合格","合格","拟聘用"]
["276","17","白沙街社区专职工作者B片区","李翠彤","201020103409",{"$f":"VLOOKUP(D279,[1]Sheet1!$E$2:$H$235,2,0)","v":78.63},{"$f":"VLOOKUP(D279,[1]Sheet1!$E$2:$H$235,3,0)","v":72.7},{"$f":"VLOOKUP(D279,[1]Sheet1!$E$2:$H$235,4,0)","v":75.072},"合格","合格","拟聘用"]
["277","17","白沙街社区专职工作者B片区","林海仪","201020105118",{"$f":"VLOOKUP(D280,[1]Sheet1!$E$2:$H$235,2,0)","v":86.51},{"$f":"VLOOKUP(D280,[1]Sheet1!$E$2:$H$235,3,0)","v":67.4},{"$f":"VLOOKUP(D280,[1]Sheet1!$E$2:$H$235,4,0)","v":75.044},"合格","合格","拟聘用"]
["278","17","白沙街社区专职工作者B片区","尹凯生","201020104420",{"$f":"VLOOKUP(D281,[1]Sheet1!$E$2:$H$235,2,0)","v":83.99},{"$f":"VLOOKUP(D281,[1]Sheet1!$E$2:$H$235,3,0)","v":68.9},{"$f":"VLOOKUP(D281,[1]Sheet1!$E$2:$H$235,4,0)","v":74.936},"合格","合格","拟聘用"]
["279","17","白沙街社区专职工作者B片区","姚若定","201020100424",{"$f":"VLOOKUP(D282,[1]Sheet1!$E$2:$H$235,2,0)","v":81.47},{"$f":"VLOOKUP(D282,[1]Sheet1!$E$2:$H$235,3,0)","v":69.4},{"$f":"VLOOKUP(D282,[1]Sheet1!$E$2:$H$235,4,0)","v":74.228},"合格","合格","拟聘用"]
["280","17","白沙街社区专职工作者B片区","吴逸豪","201020104325",{"$f":"VLOOKUP(D283,[1]Sheet1!$E$2:$H$235,2,0)","v":85.68},{"$f":"VLOOKUP(D283,[1]Sheet1!$E$2:$H$235,3,0)","v":66.5},{"$f":"VLOOKUP(D283,[1]Sheet1!$E$2:$H$235,4,0)","v":74.172},"合格","合格","拟聘用"]
["281",17,"白沙街社区专职工作者B片区","黎富深","201020102819",{"$f":"VLOOKUP(D284,[1]Sheet1!$E$2:$H$235,2,0)","v":84.53},{"$f":"VLOOKUP(D284,[1]Sheet1!$E$2:$H$235,3,0)","v":67.1},{"$f":"VLOOKUP(D284,[1]Sheet1!$E$2:$H$235,4,0)","v":74.072},"合格","合格","拟聘用"]
["282",17,"白沙街社区专职工作者B片区","冯振华","201020102115",{"$f":"VLOOKUP(D285,[1]Sheet1!$E$2:$H$235,2,0)","v":78.95},{"$f":"VLOOKUP(D285,[1]Sheet1!$E$2:$H$235,3,0)","v":70},{"$f":"VLOOKUP(D285,[1]Sheet1!$E$2:$H$235,4,0)","v":73.58},"合格","合格","拟聘用"]
["283",17,"白沙街社区专职工作者B片区","何倩韵","201020105019",{"$f":"VLOOKUP(D286,[1]Sheet1!$E$2:$H$235,2,0)","v":71.07},{"$f":"VLOOKUP(D286,[1]Sheet1!$E$2:$H$235,3,0)","v":74.6},{"$f":"VLOOKUP(D286,[1]Sheet1!$E$2:$H$235,4,0)","v":73.188},"合格","合格","拟聘用"]
["284",17,"白沙街社区专职工作者B片区","徐小敏","201020101009",{"$f":"VLOOKUP(D287,[1]Sheet1!$E$2:$H$235,2,0)","v":82.3},{"$f":"VLOOKUP(D287,[1]Sheet1!$E$2:$H$235,3,0)","v":66},{"$f":"VLOOKUP(D287,[1]Sheet1!$E$2:$H$235,4,0)","v":72.52},"合格","合格","拟聘用"]
["285",17,"白沙街社区专职工作者B片区","梁宝铃","201020103905",{"$f":"VLOOKUP(D288,[1]Sheet1!$E$2:$H$235,2,0)","v":75.54},{"$f":"VLOOKUP(D288,[1]Sheet1!$E$2:$H$235,3,0)","v":70},{"$f":"VLOOKUP(D288,[1]Sheet1!$E$2:$H$235,4,0)","v":72.216},"合格","合格","拟聘用"]
["286","18","白沙街社区专职工作者C片区","郑鸿鸿","201020101019",{"$f":"VLOOKUP(D289,[1]Sheet1!$E$2:$H$235,2,0)","v":94.64},{"$f":"VLOOKUP(D289,[1]Sheet1!$E$2:$H$235,3,0)","v":80.9},{"$f":"VLOOKUP(D289,[1]Sheet1!$E$2:$H$235,4,0)","v":86.396},"合格","合格","拟聘用"]
["287",18,"白沙街社区专职工作者C片区","曾恺欣","201020102528",{"$f":"VLOOKUP(D290,[1]Sheet1!$E$2:$H$235,2,0)","v":89.6},{"$f":"VLOOKUP(D290,[1]Sheet1!$E$2:$H$235,3,0)","v":80.8},{"$f":"VLOOKUP(D290,[1]Sheet1!$E$2:$H$235,4,0)","v":84.32},"合格","合格","拟聘用"]
["288","18","白沙街社区专职工作者C片区","薛安琪","201020101929",{"$f":"VLOOKUP(D291,[1]Sheet1!$E$2:$H$235,2,0)","v":87.27},{"$f":"VLOOKUP(D291,[1]Sheet1!$E$2:$H$235,3,0)","v":78.3},{"$f":"VLOOKUP(D291,[1]Sheet1!$E$2:$H$235,4,0)","v":81.888},"合格","合格","拟聘用"]
["289","18","白沙街社区专职工作者C片区","谭佩雯","201020102704",{"$f":"VLOOKUP(D292,[1]Sheet1!$E$2:$H$235,2,0)","v":84.85},{"$f":"VLOOKUP(D292,[1]Sheet1!$E$2:$H$235,3,0)","v":79.6},{"$f":"VLOOKUP(D292,[1]Sheet1!$E$2:$H$235,4,0)","v":81.7},"合格","合格","拟聘用"]
["290","18","白沙街社区专职工作者C片区","吕俊杰","201020100523",{"$f":"VLOOKUP(D293,[1]Sheet1!$E$2:$H$235,2,0)","v":89.06},{"$f":"VLOOKUP(D293,[1]Sheet1!$E$2:$H$235,3,0)","v":76.1},{"$f":"VLOOKUP(D293,[1]Sheet1!$E$2:$H$235,4,0)","v":81.284},"合格","合格","拟聘用"]
["291","18","白沙街社区专职工作者C片区","赵敏雪","201020105225",{"$f":"VLOOKUP(D294,[1]Sheet1!$E$2:$H$235,2,0)","v":81.98},{"$f":"VLOOKUP(D294,[1]Sheet1!$E$2:$H$235,3,0)","v":80.8},{"$f":"VLOOKUP(D294,[1]Sheet1!$E$2:$H$235,4,0)","v":81.272},"合格","合格","拟聘用"]
["292","18","白沙街社区专职工作者C片区","吴伟杰","201020102530",{"$f":"VLOOKUP(D295,[1]Sheet1!$E$2:$H$235,2,0)","v":80.61},{"$f":"VLOOKUP(D295,[1]Sheet1!$E$2:$H$235,3,0)","v":80.8},{"$f":"VLOOKUP(D295,[1]Sheet1!$E$2:$H$235,4,0)","v":80.724},"合格","合格","拟聘用"]
["293","18","白沙街社区专职工作者C片区","黄楚君","201020104206",{"$f":"VLOOKUP(D296,[1]Sheet1!$E$2:$H$235,2,0)","v":87.34},{"$f":"VLOOKUP(D296,[1]Sheet1!$E$2:$H$235,3,0)","v":76.2},{"$f":"VLOOKUP(D296,[1]Sheet1!$E$2:$H$235,4,0)","v":80.656},"合格","合格","拟聘用"]
["294","18","白沙街社区专职工作者C片区","杨锦铭","201020103422",{"$f":"VLOOKUP(D297,[1]Sheet1!$E$2:$H$235,2,0)","v":80.32},{"$f":"VLOOKUP(D297,[1]Sheet1!$E$2:$H$235,3,0)","v":79.8},{"$f":"VLOOKUP(D297,[1]Sheet1!$E$2:$H$235,4,0)","v":80.008},"合格","合格","拟聘用"]
["295","18","白沙街社区专职工作者C片区","庞静妍","201020104704",{"$f":"VLOOKUP(D298,[1]Sheet1!$E$2:$H$235,2,0)","v":86.51},{"$f":"VLOOKUP(D298,[1]Sheet1!$E$2:$H$235,3,0)","v":75.5},{"$f":"VLOOKUP(D298,[1]Sheet1!$E$2:$H$235,4,0)","v":79.904},"合格","合格","拟聘用"]
["296","18","白沙街社区专职工作者C片区","何玮哲","201020101105",{"$f":"VLOOKUP(D299,[1]Sheet1!$E$2:$H$235,2,0)","v":89.03},{"$f":"VLOOKUP(D299,[1]Sheet1!$E$2:$H$235,3,0)","v":73.3},{"$f":"VLOOKUP(D299,[1]Sheet1!$E$2:$H$235,4,0)","v":79.592},"合格","合格","拟聘用"]
["297",18,"白沙街社区专职工作者C片区","甘若成","201020100820",{"$f":"VLOOKUP(D300,[1]Sheet1!$E$2:$H$235,2,0)","v":87.37},{"$f":"VLOOKUP(D300,[1]Sheet1!$E$2:$H$235,3,0)","v":74.4},{"$f":"VLOOKUP(D300,[1]Sheet1!$E$2:$H$235,4,0)","v":79.588},"合格","合格","拟聘用"]
["298",18,"白沙街社区专职工作者C片区","黄雪梅","201020101428",{"$f":"VLOOKUP(D301,[1]Sheet1!$E$2:$H$235,2,0)","v":94.1},{"$f":"VLOOKUP(D301,[1]Sheet1!$E$2:$H$235,3,0)","v":69.4},{"$f":"VLOOKUP(D301,[1]Sheet1!$E$2:$H$235,4,0)","v":79.28},"合格","合格","拟聘用"]
["299",18,"白沙街社区专职工作者C片区","冯江俊","201020103419",{"$f":"VLOOKUP(D302,[1]Sheet1!$E$2:$H$235,2,0)","v":89.89},{"$f":"VLOOKUP(D302,[1]Sheet1!$E$2:$H$235,3,0)","v":72.2},{"$f":"VLOOKUP(D302,[1]Sheet1!$E$2:$H$235,4,0)","v":79.276},"合格","合格","拟聘用"]
["300","18","白沙街社区专职工作者C片区","黎绮婷","201020101701",{"$f":"VLOOKUP(D303,[1]Sheet1!$E$2:$H$235,2,0)","v":88.2},{"$f":"VLOOKUP(D303,[1]Sheet1!$E$2:$H$235,3,0)","v":73.1},{"$f":"VLOOKUP(D303,[1]Sheet1!$E$2:$H$235,4,0)","v":79.14},"合格","合格","拟聘用"]
["301","18","白沙街社区专职工作者C片区","陈建新","201020101024",{"$f":"VLOOKUP(D304,[1]Sheet1!$E$2:$H$235,2,0)","v":82.81},{"$f":"VLOOKUP(D304,[1]Sheet1!$E$2:$H$235,3,0)","v":76.4},{"$f":"VLOOKUP(D304,[1]Sheet1!$E$2:$H$235,4,0)","v":78.964},"合格","合格","拟聘用"]
["302","18","白沙街社区专职工作者C片区","胡莹","201020100404",{"$f":"VLOOKUP(D305,[1]Sheet1!$E$2:$H$235,2,0)","v":78.88},{"$f":"VLOOKUP(D305,[1]Sheet1!$E$2:$H$235,3,0)","v":78.9},{"$f":"VLOOKUP(D305,[1]Sheet1!$E$2:$H$235,4,0)","v":78.892},"合格","合格","拟聘用"]
["303","18","白沙街社区专职工作者C片区","梁瑞恩","201020101902",{"$f":"VLOOKUP(D306,[1]Sheet1!$E$2:$H$235,2,0)","v":92.09},{"$f":"VLOOKUP(D306,[1]Sheet1!$E$2:$H$235,3,0)","v":69.8},{"$f":"VLOOKUP(D306,[1]Sheet1!$E$2:$H$235,4,0)","v":78.716},"合格","合格","拟聘用"]
["304","18","白沙街社区专职工作者C片区","何宣萤","201020103424",{"$f":"VLOOKUP(D307,[1]Sheet1!$E$2:$H$235,2,0)","v":83.99},{"$f":"VLOOKUP(D307,[1]Sheet1!$E$2:$H$235,3,0)","v":75.2},{"$f":"VLOOKUP(D307,[1]Sheet1!$E$2:$H$235,4,0)","v":78.716},"合格","合格","拟聘用"]
["305","18","白沙街社区专职工作者C片区","林维逸","201020101522",{"$f":"VLOOKUP(D308,[1]Sheet1!$E$2:$H$235,2,0)","v":81.47},{"$f":"VLOOKUP(D308,[1]Sheet1!$E$2:$H$235,3,0)","v":76.3},{"$f":"VLOOKUP(D308,[1]Sheet1!$E$2:$H$235,4,0)","v":78.368},"合格","合格","拟聘用"]
["306","18","白沙街社区专职工作者C片区","吴梦瑶","201020103413",{"$f":"VLOOKUP(D309,[1]Sheet1!$E$2:$H$235,2,0)","v":88.2},{"$f":"VLOOKUP(D309,[1]Sheet1!$E$2:$H$235,3,0)","v":71.8},{"$f":"VLOOKUP(D309,[1]Sheet1!$E$2:$H$235,4,0)","v":78.36},"合格","合格","拟聘用"]
["307","18","白沙街社区专职工作者C片区","彭映霞","201020100323",{"$f":"VLOOKUP(D310,[1]Sheet1!$E$2:$H$235,2,0)","v":79.46},{"$f":"VLOOKUP(D310,[1]Sheet1!$E$2:$H$235,3,0)","v":77.6},{"$f":"VLOOKUP(D310,[1]Sheet1!$E$2:$H$235,4,0)","v":78.344},"合格","合格","拟聘用"]
["308","18","白沙街社区专职工作者C片区","梁伟璋","201020100819",{"$f":"VLOOKUP(D311,[1]Sheet1!$E$2:$H$235,2,0)","v":80.32},{"$f":"VLOOKUP(D311,[1]Sheet1!$E$2:$H$235,3,0)","v":76.8},{"$f":"VLOOKUP(D311,[1]Sheet1!$E$2:$H$235,4,0)","v":78.208},"合格","合格","拟聘用"]
["309","18","白沙街社区专职工作者C片区","陈悦","201020101705",{"$f":"VLOOKUP(D312,[1]Sheet1!$E$2:$H$235,2,0)","v":92.41},{"$f":"VLOOKUP(D312,[1]Sheet1!$E$2:$H$235,3,0)","v":68.7},{"$f":"VLOOKUP(D312,[1]Sheet1!$E$2:$H$235,4,0)","v":78.184},"合格","合格","拟聘用"]
["310","18","白沙街社区专职工作者C片区","温浩均","201020101118",{"$f":"VLOOKUP(D313,[1]Sheet1!$E$2:$H$235,2,0)","v":88.2},{"$f":"VLOOKUP(D313,[1]Sheet1!$E$2:$H$235,3,0)","v":71.5},{"$f":"VLOOKUP(D313,[1]Sheet1!$E$2:$H$235,4,0)","v":78.18},"合格","合格","拟聘用"]
["311","18","白沙街社区专职工作者C片区","李键烽","201020101025",{"$f":"VLOOKUP(D314,[1]Sheet1!$E$2:$H$235,2,0)","v":84.82},{"$f":"VLOOKUP(D314,[1]Sheet1!$E$2:$H$235,3,0)","v":73.7},{"$f":"VLOOKUP(D314,[1]Sheet1!$E$2:$H$235,4,0)","v":78.148},"合格","合格","拟聘用"]
["312",18,"白沙街社区专职工作者C片区","林凯光","201020103418",{"$f":"VLOOKUP(D315,[1]Sheet1!$E$2:$H$235,2,0)","v":89.6},{"$f":"VLOOKUP(D315,[1]Sheet1!$E$2:$H$235,3,0)","v":70.1},{"$f":"VLOOKUP(D315,[1]Sheet1!$E$2:$H$235,4,0)","v":77.9},"合格","合格","拟聘用"]
["313",18,"白沙街社区专职工作者C片区","赵嘉琳","201020104820",{"$f":"VLOOKUP(D316,[1]Sheet1!$E$2:$H$235,2,0)","v":85.39},{"$f":"VLOOKUP(D316,[1]Sheet1!$E$2:$H$235,3,0)","v":72.8},{"$f":"VLOOKUP(D316,[1]Sheet1!$E$2:$H$235,4,0)","v":77.836},"合格","合格","拟聘用"]
["314",18,"白沙街社区专职工作者C片区","谭小丽","201020103717",{"$f":"VLOOKUP(D317,[1]Sheet1!$E$2:$H$235,2,0)","v":87.05},{"$f":"VLOOKUP(D317,[1]Sheet1!$E$2:$H$235,3,0)","v":71.6},{"$f":"VLOOKUP(D317,[1]Sheet1!$E$2:$H$235,4,0)","v":77.78},"合格","合格","拟聘用"]
["315",18,"白沙街社区专职工作者C片区","余均杨","201020101220",{"$f":"VLOOKUP(D318,[1]Sheet1!$E$2:$H$235,2,0)","v":83.67},{"$f":"VLOOKUP(D318,[1]Sheet1!$E$2:$H$235,3,0)","v":72.5},{"$f":"VLOOKUP(D318,[1]Sheet1!$E$2:$H$235,4,0)","v":76.968},"合格","合格","拟聘用"]
["316",18,"白沙街社区专职工作者C片区","何建业","201020100718",{"$f":"VLOOKUP(D319,[1]Sheet1!$E$2:$H$235,2,0)","v":84.53},{"$f":"VLOOKUP(D319,[1]Sheet1!$E$2:$H$235,3,0)","v":71.8},{"$f":"VLOOKUP(D319,[1]Sheet1!$E$2:$H$235,4,0)","v":76.892},"合格","合格","拟聘用"]
["317",18,"白沙街社区专职工作者C片区","黎淑雯","201020104609",{"$f":"VLOOKUP(D320,[1]Sheet1!$E$2:$H$235,2,0)","v":80.86},{"$f":"VLOOKUP(D320,[1]Sheet1!$E$2:$H$235,3,0)","v":74.1},{"$f":"VLOOKUP(D320,[1]Sheet1!$E$2:$H$235,4,0)","v":76.804},"合格","合格","拟聘用"]
["318",18,"白沙街社区专职工作者C片区","张鸿明","201020102129",{"$f":"VLOOKUP(D321,[1]Sheet1!$E$2:$H$235,2,0)","v":80.64},{"$f":"VLOOKUP(D321,[1]Sheet1!$E$2:$H$235,3,0)","v":73.8},{"$f":"VLOOKUP(D321,[1]Sheet1!$E$2:$H$235,4,0)","v":76.536},"合格","合格","拟聘用"]
["319",18,"白沙街社区专职工作者C片区","谢珊珊","201020100329",{"$f":"VLOOKUP(D322,[1]Sheet1!$E$2:$H$235,2,0)","v":86.51},{"$f":"VLOOKUP(D322,[1]Sheet1!$E$2:$H$235,3,0)","v":69.4},{"$f":"VLOOKUP(D322,[1]Sheet1!$E$2:$H$235,4,0)","v":76.244},"合格","合格","拟聘用"]
["320",18,"白沙街社区专职工作者C片区","李海娜","201020104311",{"$f":"VLOOKUP(D323,[1]Sheet1!$E$2:$H$235,2,0)","v":78.09},{"$f":"VLOOKUP(D323,[1]Sheet1!$E$2:$H$235,3,0)","v":74.6},{"$f":"VLOOKUP(D323,[1]Sheet1!$E$2:$H$235,4,0)","v":75.996},"合格","合格","拟聘用"]
["321",18,"白沙街社区专职工作者C片区","谭永康","201020105203",{"$f":"VLOOKUP(D324,[1]Sheet1!$E$2:$H$235,2,0)","v":86.51},{"$f":"VLOOKUP(D324,[1]Sheet1!$E$2:$H$235,3,0)","v":68.7},{"$f":"VLOOKUP(D324,[1]Sheet1!$E$2:$H$235,4,0)","v":75.824},"合格","合格","拟聘用"]
["322",18,"白沙街社区专职工作者C片区","张雅丽","201020101816",{"$f":"VLOOKUP(D325,[1]Sheet1!$E$2:$H$235,2,0)","v":78.56},{"$f":"VLOOKUP(D325,[1]Sheet1!$E$2:$H$235,3,0)","v":74},{"$f":"VLOOKUP(D325,[1]Sheet1!$E$2:$H$235,4,0)","v":75.824},"合格","合格","拟聘用"]
["323",18,"白沙街社区专职工作者C片区","汤柳清","201020101512",{"$f":"VLOOKUP(D326,[1]Sheet1!$E$2:$H$235,2,0)","v":83.16},{"$f":"VLOOKUP(D326,[1]Sheet1!$E$2:$H$235,3,0)","v":70.6},{"$f":"VLOOKUP(D326,[1]Sheet1!$E$2:$H$235,4,0)","v":75.624},"合格","合格","拟聘用"]