{"text_format":"3","workbook":"xlsx","n_sheets":1,"sheets":["入围体检名单 "],"not_rendered":{"external_links":1,"defined_names":1},"read":"whole","date_system":"1900"}

{"sheet":"入围体检名单 ","index":0,"n_rows":161,"n_cols":7,"rows_kept":161,"merged":[[0,0,0,6]]}
["附件1：    2023年蓬江区中小学教师招聘本地专场入围体检人员名单"]
["序号","岗位代码","本地专场准考证号","笔试或技能测试成绩","面试成绩","综合成绩","是否入围体检"]
[1,"20232001",50231136,{"v":74.3,"d":"74.300"},{"$f":"VLOOKUP(C3,[1]本地专场面试成绩!$D$2:$F$474,3,0)","v":{"v":83.8,"d":"83.800"}},{"$f":"D3*0.3+E3*0.7","v":{"v":80.95,"d":"80.950"}},"是"]
[2,"20232001",50230664,{"v":66.45,"d":"66.450"},{"$f":"VLOOKUP(C4,[1]本地专场面试成绩!$D$2:$F$474,3,0)","v":{"v":86.2,"d":"86.200"}},80.275,"是"]
[3,"20232001",50230357,{"v":71.2,"d":"71.200"},{"$f":"VLOOKUP(C5,[1]本地专场面试成绩!$D$2:$F$474,3,0)","v":{"v":82.4,"d":"82.400"}},{"v":79.04,"d":"79.040"},"是"]
[4,"20232001",50232865,{"v":66.25,"d":"66.250"},{"$f":"VLOOKUP(C6,[1]本地专场面试成绩!$D$2:$F$474,3,0)","v":{"v":83.2,"d":"83.200"}},78.115,"是"]
[5,"20232001",50230969,{"v":69.5,"d":"69.500"},{"$f":"VLOOKUP(C7,[1]本地专场面试成绩!$D$2:$F$474,3,0)","v":{"v":81.4,"d":"81.400"}},{"v":77.83,"d":"77.830"},"是"]
[6,"20232001",50232686,{"v":59.9,"d":"59.900"},{"$f":"VLOOKUP(C8,[1]本地专场面试成绩!$D$2:$F$474,3,0)","v":{"v":84.4,"d":"84.400"}},{"v":77.05,"d":"77.050"},"是"]
[7,"20232001",50233068,{"v":65.8,"d":"65.800"},{"$f":"VLOOKUP(C9,[1]本地专场面试成绩!$D$2:$F$474,3,0)","v":{"v":81.6,"d":"81.600"}},{"v":76.86,"d":"76.860"},"是"]
[8,"20232001",50232960,{"v":61,"d":"61.000"},{"$f":"VLOOKUP(C10,[1]本地专场面试成绩!$D$2:$F$474,3,0)","v":{"v":81.4,"d":"81.400"}},{"v":75.28,"d":"75.280"},"是"]
[9,"20232001",50231975,{"v":68,"d":"68.000"},{"$f":"VLOOKUP(C11,[1]本地专场面试成绩!$D$2:$F$474,3,0)","v":{"v":77.2,"d":"77.200"}},{"v":74.44,"d":"74.440"},"是"]
[10,"20232001",50231137,{"v":64.25,"d":"64.250"},{"$f":"VLOOKUP(C12,[1]本地专场面试成绩!$D$2:$F$474,3,0)","v":{"v":78.8,"d":"78.800"}},74.435,"是"]
[11,"20232002",50230640,{"v":68.6,"d":"68.600"},{"v":86.2,"d":"86.200"},{"v":80.92,"d":"80.920"},"是"]
[12,"20232002",50230261,{"v":68.25,"d":"68.250"},{"v":85,"d":"85.000"},79.975,"是"]
[13,"20232002",50230977,{"v":60.95,"d":"60.950"},{"v":87.6,"d":"87.600"},79.605,"是"]
[14,"20232002",50231249,{"v":65.9,"d":"65.900"},{"v":85.4,"d":"85.400"},{"v":79.55,"d":"79.550"},"是"]
[15,"20232002",50230829,{"v":74,"d":"74.000"},{"v":81.4,"d":"81.400"},{"v":79.18,"d":"79.180"},"是"]
[16,"20232002",50233051,{"v":69.25,"d":"69.250"},{"v":83.4,"d":"83.400"},79.155,"是"]
[17,"20232002",50231873,{"v":64.15,"d":"64.150"},{"v":85.4,"d":"85.400"},79.025,"是"]
[18,"20232002",50232296,{"v":67.15,"d":"67.150"},{"v":82,"d":"82.000"},77.545,"是"]
[19,"20232002",50232691,{"v":70.75,"d":"70.750"},{"v":80.2,"d":"80.200"},77.365,"是"]
[20,"20232002",50231890,{"v":61.9,"d":"61.900"},{"v":83.6,"d":"83.600"},{"v":77.09,"d":"77.090"},"是"]
[21,"20232003",50230251,{"v":77.7,"d":"77.700"},{"$f":"VLOOKUP(C23,[1]本地专场面试成绩!$D$2:$F$474,3,0)","v":{"v":85,"d":"85.000"}},{"$f":"D23*0.3+E23*0.7","v":{"v":82.81,"d":"82.810"}},"是"]
[22,"20232003",50230103,{"v":70.55,"d":"70.550"},{"$f":"VLOOKUP(C24,[1]本地专场面试成绩!$D$2:$F$474,3,0)","v":{"v":87.8,"d":"87.800"}},82.625,"是"]
[23,"20232003",50230090,{"v":76.25,"d":"76.250"},{"$f":"VLOOKUP(C25,[1]本地专场面试成绩!$D$2:$F$474,3,0)","v":{"v":85.2,"d":"85.200"}},82.515,"是"]
[24,"20232003",50230322,{"v":61.25,"d":"61.250"},{"$f":"VLOOKUP(C26,[1]本地专场面试成绩!$D$2:$F$474,3,0)","v":{"v":87.6,"d":"87.600"}},79.695,"是"]
[25,"20232003",50230645,{"v":70.2,"d":"70.200"},{"$f":"VLOOKUP(C27,[1]本地专场面试成绩!$D$2:$F$474,3,0)","v":{"v":82.8,"d":"82.800"}},{"v":79.02,"d":"79.020"},"是"]
[26,"20232003",50230642,{"v":63.65,"d":"63.650"},{"$f":"VLOOKUP(C28,[1]本地专场面试成绩!$D$2:$F$474,3,0)","v":{"v":85.6,"d":"85.600"}},79.015,"是"]
[27,"20232003",50230894,{"v":67.35,"d":"67.350"},{"$f":"VLOOKUP(C29,[1]本地专场面试成绩!$D$2:$F$474,3,0)","v":{"v":83,"d":"83.000"}},78.305,"是"]
[28,"20232003",50233320,{"v":63.2,"d":"63.200"},{"$f":"VLOOKUP(C30,[1]本地专场面试成绩!$D$2:$F$474,3,0)","v":{"v":84.4,"d":"84.400"}},{"v":78.04,"d":"78.040"},"是"]
[29,"20232003",50230376,{"v":61.45,"d":"61.450"},{"$f":"VLOOKUP(C31,[1]本地专场面试成绩!$D$2:$F$474,3,0)","v":{"v":85,"d":"85.000"}},77.935,"是"]
[30,"20232003",50233064,{"v":68.75,"d":"68.750"},{"$f":"VLOOKUP(C32,[1]本地专场面试成绩!$D$2:$F$474,3,0)","v":{"v":81.6,"d":"81.600"}},77.745,"是"]
[31,"20232004",50230840,{"v":65.85,"d":"65.850"},{"$f":"VLOOKUP(C33,[1]本地专场面试成绩!$D$2:$F$474,3,0)","v":{"v":91,"d":"91.000"}},83.455,"是"]
[32,"20232004",50232938,{"v":73.7,"d":"73.700"},{"$f":"VLOOKUP(C34,[1]本地专场面试成绩!$D$2:$F$474,3,0)","v":{"v":85.2,"d":"85.200"}},{"v":81.75,"d":"81.750"},"是"]
[33,"20232004",50232098,{"v":73.1,"d":"73.100"},{"$f":"VLOOKUP(C35,[1]本地专场面试成绩!$D$2:$F$474,3,0)","v":{"v":84.8,"d":"84.800"}},{"v":81.29,"d":"81.290"},"是"]
[34,"20232004",50231078,{"v":66.55,"d":"66.550"},{"$f":"VLOOKUP(C36,[1]本地专场面试成绩!$D$2:$F$474,3,0)","v":{"v":86.2,"d":"86.200"}},80.305,"是"]
[35,"20232004",50232108,{"v":66.35,"d":"66.350"},{"$f":"VLOOKUP(C37,[1]本地专场面试成绩!$D$2:$F$474,3,0)","v":{"v":86.2,"d":"86.200"}},80.245,"是"]
[36,"20232004",50233160,{"v":67.55,"d":"67.550"},{"$f":"VLOOKUP(C38,[1]本地专场面试成绩!$D$2:$F$474,3,0)","v":{"v":85.6,"d":"85.600"}},80.185,"是"]
[37,"20232004",50232874,{"v":73.35,"d":"73.350"},{"$f":"VLOOKUP(C39,[1]本地专场面试成绩!$D$2:$F$474,3,0)","v":{"v":82,"d":"82.000"}},79.405,"是"]
[38,"20232004",50232127,{"v":61.8,"d":"61.800"},{"$f":"VLOOKUP(C40,[1]本地专场面试成绩!$D$2:$F$474,3,0)","v":{"v":86,"d":"86.000"}},{"v":78.74,"d":"78.740"},"是"]
[39,"20232004",50231449,{"v":61.1,"d":"61.100"},{"$f":"VLOOKUP(C41,[1]本地专场面试成绩!$D$2:$F$474,3,0)","v":{"v":86,"d":"86.000"}},{"v":78.53,"d":"78.530"},"是"]
[40,"20232004",50232451,{"v":66.55,"d":"66.550"},{"$f":"VLOOKUP(C42,[1]本地专场面试成绩!$D$2:$F$474,3,0)","v":{"v":83.6,"d":"83.600"}},78.485,"是"]
[41,"20232005",50231815,{"v":67.95,"d":"67.950"},{"$f":"VLOOKUP(C43,[1]本地专场面试成绩!$D$2:$F$474,3,0)","v":{"v":86.4,"d":"86.400"}},80.865,"是"]
[42,"20232005",50231700,{"v":72.4,"d":"72.400"},{"$f":"VLOOKUP(C44,[1]本地专场面试成绩!$D$2:$F$474,3,0)","v":{"v":82.6,"d":"82.600"}},{"v":79.54,"d":"79.540"},"是"]
[43,"20232005",50232427,{"v":63.35,"d":"63.350"},{"$f":"VLOOKUP(C45,[1]本地专场面试成绩!$D$2:$F$474,3,0)","v":{"v":86.2,"d":"86.200"}},79.345,"是"]
[44,"20232005",50232394,{"v":66.65,"d":"66.650"},{"$f":"VLOOKUP(C46,[1]本地专场面试成绩!$D$2:$F$474,3,0)","v":{"v":84.2,"d":"84.200"}},78.935,"是"]
[45,"20232005",50232383,{"v":67.6,"d":"67.600"},{"$f":"VLOOKUP(C47,[1]本地专场面试成绩!$D$2:$F$474,3,0)","v":{"v":82,"d":"82.000"}},{"v":77.68,"d":"77.680"},"是"]
[46,"20232005",50230777,{"v":63.25,"d":"63.250"},{"$f":"VLOOKUP(C48,[1]本地专场面试成绩!$D$2:$F$474,3,0)","v":{"v":83.6,"d":"83.600"}},77.495,"是"]
[47,"20232005",50231918,{"v":68.6,"d":"68.600"},{"$f":"VLOOKUP(C49,[1]本地专场面试成绩!$D$2:$F$474,3,0)","v":{"v":79.4,"d":"79.400"}},{"v":76.16,"d":"76.160"},"是"]
[48,"20232005",50233027,{"v":51.8,"d":"51.800"},{"$f":"VLOOKUP(C50,[1]本地专场面试成绩!$D$2:$F$474,3,0)","v":{"v":85.6,"d":"85.600"}},{"v":75.46,"d":"75.460"},"是"]
[49,"20232005",50230209,{"v":73.15,"d":"73.150"},{"$f":"VLOOKUP(C51,[1]本地专场面试成绩!$D$2:$F$474,3,0)","v":{"v":75,"d":"75.000"}},74.445,"是"]
[50,"20232005",50231247,{"v":53.5,"d":"53.500"},{"$f":"VLOOKUP(C52,[1]本地专场面试成绩!$D$2:$F$474,3,0)","v":{"v":82.6,"d":"82.600"}},{"v":73.87,"d":"73.870"},"是"]
[51,"20232006",50231049,{"v":68.2,"d":"68.200"},{"$f":"VLOOKUP(C53,[1]本地专场面试成绩!$D$2:$F$474,3,0)","v":{"v":87.4,"d":"87.400"}},{"v":81.64,"d":"81.640"},"是"]
[52,"20232006",50231344,{"v":61.95,"d":"61.950"},{"$f":"VLOOKUP(C54,[1]本地专场面试成绩!$D$2:$F$474,3,0)","v":{"v":87,"d":"87.000"}},79.485,"是"]
[53,"20232006",50230554,{"v":64.55,"d":"64.550"},{"$f":"VLOOKUP(C55,[1]本地专场面试成绩!$D$2:$F$474,3,0)","v":{"v":85.4,"d":"85.400"}},79.145,"是"]
[54,"20232006",50233046,{"v":71.25,"d":"71.250"},{"$f":"VLOOKUP(C56,[1]本地专场面试成绩!$D$2:$F$474,3,0)","v":{"v":80,"d":"80.000"}},77.375,"是"]
[55,"20232006",50232328,{"v":62.1,"d":"62.100"},{"$f":"VLOOKUP(C57,[1]本地专场面试成绩!$D$2:$F$474,3,0)","v":{"v":82.6,"d":"82.600"}},{"v":76.45,"d":"76.450"},"是"]
[56,"20232006",50230385,{"v":62.55,"d":"62.550"},{"$f":"VLOOKUP(C58,[1]本地专场面试成绩!$D$2:$F$474,3,0)","v":{"v":82.2,"d":"82.200"}},76.305,"是"]
[57,"20232006",50230372,{"v":69.7,"d":"69.700"},{"$f":"VLOOKUP(C59,[1]本地专场面试成绩!$D$2:$F$474,3,0)","v":{"v":77.8,"d":"77.800"}},{"v":75.37,"d":"75.370"},"是"]
[58,"20232006",50232624,{"v":62.55,"d":"62.550"},{"$f":"VLOOKUP(C60,[1]本地专场面试成绩!$D$2:$F$474,3,0)","v":{"v":80.2,"d":"80.200"}},74.905,"是"]
[59,"20232006",50230849,{"v":53.65,"d":"53.650"},{"$f":"VLOOKUP(C61,[1]本地专场面试成绩!$D$2:$F$474,3,0)","v":{"v":83.8,"d":"83.800"}},74.755,"是"]
[60,"20232006",50230346,{"v":67.25,"d":"67.250"},{"$f":"VLOOKUP(C62,[1]本地专场面试成绩!$D$2:$F$474,3,0)","v":{"v":77.8,"d":"77.800"}},74.635,"是"]
[61,"20232007",50230937,{"v":67.45,"d":"67.450"},{"$f":"VLOOKUP(C63,[1]本地专场面试成绩!$D$2:$F$474,3,0)","v":{"v":86.8,"d":"86.800"}},80.995,"是"]
[62,"20232007",50231358,{"v":71.7,"d":"71.700"},{"$f":"VLOOKUP(C64,[1]本地专场面试成绩!$D$2:$F$474,3,0)","v":{"v":83.8,"d":"83.800"}},{"v":80.17,"d":"80.170"},"是"]
[63,"20232007",50230175,{"v":68.85,"d":"68.850"},{"$f":"VLOOKUP(C65,[1]本地专场面试成绩!$D$2:$F$474,3,0)","v":{"v":83,"d":"83.000"}},78.755,"是"]
[64,"20232007",50230388,{"v":60.9,"d":"60.900"},{"$f":"VLOOKUP(C66,[1]本地专场面试成绩!$D$2:$F$474,3,0)","v":{"v":84.6,"d":"84.600"}},{"v":77.49,"d":"77.490"},"是"]
[65,"20232007",50232011,{"v":60.7,"d":"60.700"},{"$f":"VLOOKUP(C67,[1]本地专场面试成绩!$D$2:$F$474,3,0)","v":{"v":84.2,"d":"84.200"}},{"v":77.15,"d":"77.150"},"是"]
[66,"20232007",50230821,{"v":60.35,"d":"60.350"},{"$f":"VLOOKUP(C68,[1]本地专场面试成绩!$D$2:$F$474,3,0)","v":{"v":83.4,"d":"83.400"}},76.485,"是"]
[67,"20232007",50232325,{"v":63.1,"d":"63.100"},{"$f":"VLOOKUP(C69,[1]本地专场面试成绩!$D$2:$F$474,3,0)","v":{"v":82.2,"d":"82.200"}},{"v":76.47,"d":"76.470"},"是"]
[68,"20232007",50232181,{"v":58.2,"d":"58.200"},{"$f":"VLOOKUP(C70,[1]本地专场面试成绩!$D$2:$F$474,3,0)","v":{"v":83.6,"d":"83.600"}},{"v":75.98,"d":"75.980"},"是"]
[69,"20232007",50232327,{"v":54.65,"d":"54.650"},{"$f":"VLOOKUP(C71,[1]本地专场面试成绩!$D$2:$F$474,3,0)","v":{"v":85,"d":"85.000"}},75.895,"是"]
[70,"20232007",50230983,{"v":60.6,"d":"60.600"},{"$f":"VLOOKUP(C72,[1]本地专场面试成绩!$D$2:$F$474,3,0)","v":{"v":82.4,"d":"82.400"}},{"v":75.86,"d":"75.860"},"是"]
[71,"20232008",50232660,{"v":77.45,"d":"77.450"},{"$f":"VLOOKUP(C73,[1]本地专场面试成绩!$D$2:$F$474,3,0)","v":{"v":84,"d":"84.000"}},82.035,"是"]
[72,"20232008",50230231,{"v":68.6,"d":"68.600"},{"$f":"VLOOKUP(C74,[1]本地专场面试成绩!$D$2:$F$474,3,0)","v":{"v":86.6,"d":"86.600"}},{"v":81.2,"d":"81.200"},"是"]
[73,"20232008",50231563,{"v":73.1,"d":"73.100"},{"$f":"VLOOKUP(C75,[1]本地专场面试成绩!$D$2:$F$474,3,0)","v":{"v":84.6,"d":"84.600"}},{"v":81.15,"d":"81.150"},"是"]
[74,"20232008",50232330,{"v":74.85,"d":"74.850"},{"$f":"VLOOKUP(C76,[1]本地专场面试成绩!$D$2:$F$474,3,0)","v":{"v":83.4,"d":"83.400"}},80.835,"是"]
[75,"20232008",50230776,{"v":68.65,"d":"68.650"},{"$f":"VLOOKUP(C77,[1]本地专场面试成绩!$D$2:$F$474,3,0)","v":{"v":85.4,"d":"85.400"}},80.375,"是"]
[76,"20232008",50230666,{"v":70.7,"d":"70.700"},{"$f":"VLOOKUP(C78,[1]本地专场面试成绩!$D$2:$F$474,3,0)","v":{"v":84.3,"d":"84.300"}},{"v":80.22,"d":"80.220"},"是"]
[77,"20232008",50233026,{"v":69.5,"d":"69.500"},{"$f":"VLOOKUP(C79,[1]本地专场面试成绩!$D$2:$F$474,3,0)","v":{"v":84.5,"d":"84.500"}},{"v":80,"d":"80.000"},"是"]
[78,"20232008",50232748,{"v":70.9,"d":"70.900"},{"$f":"VLOOKUP(C80,[1]本地专场面试成绩!$D$2:$F$474,3,0)","v":{"v":83.6,"d":"83.600"}},{"v":79.79,"d":"79.790"},"是"]
[79,"20232008",50230495,{"v":72.5,"d":"72.500"},{"$f":"VLOOKUP(C81,[1]本地专场面试成绩!$D$2:$F$474,3,0)","v":{"v":82.2,"d":"82.200"}},{"v":79.29,"d":"79.290"},"是"]
[80,"20232008",50232872,{"v":68.45,"d":"68.450"},{"$f":"VLOOKUP(C82,[1]本地专场面试成绩!$D$2:$F$474,3,0)","v":{"v":83.9,"d":"83.900"}},79.265,"是"]
[81,"20232008",50230863,{"v":68.55,"d":"68.550"},{"$f":"VLOOKUP(C83,[1]本地专场面试成绩!$D$2:$F$474,3,0)","v":{"v":83.7,"d":"83.700"}},79.155,"是"]
[82,"20232009",50232729,{"v":64.45,"d":"64.450"},{"$f":"VLOOKUP(C84,[1]本地专场面试成绩!$D$2:$F$474,3,0)","v":{"v":87.2,"d":"87.200"}},80.375,"是"]
[83,"20232009",50232349,{"v":66.4,"d":"66.400"},{"$f":"VLOOKUP(C85,[1]本地专场面试成绩!$D$2:$F$474,3,0)","v":{"v":84.2,"d":"84.200"}},{"v":78.86,"d":"78.860"},"是"]
[84,"20232009",50230884,{"v":66.6,"d":"66.600"},{"$f":"VLOOKUP(C86,[1]本地专场面试成绩!$D$2:$F$474,3,0)","v":{"v":83.4,"d":"83.400"}},{"v":78.36,"d":"78.360"},"是"]
[85,"20232009",50230262,{"v":68.1,"d":"68.100"},{"$f":"VLOOKUP(C87,[1]本地专场面试成绩!$D$2:$F$474,3,0)","v":{"v":81.4,"d":"81.400"}},{"$f":"D87*0.3+E87*0.7","v":{"v":77.41,"d":"77.410"}},"是"]
[86,"20232009",50232261,{"v":67.85,"d":"67.850"},{"$f":"VLOOKUP(C88,[1]本地专场面试成绩!$D$2:$F$474,3,0)","v":{"v":80.2,"d":"80.200"}},76.495,"是"]
[87,"20232009",50230932,{"v":62,"d":"62.000"},{"$f":"VLOOKUP(C89,[1]本地专场面试成绩!$D$2:$F$474,3,0)","v":{"v":80.2,"d":"80.200"}},{"v":74.74,"d":"74.740"},"是"]
[88,"20232010",50232422,{"v":71.7,"d":"71.700"},{"$f":"VLOOKUP(C90,[1]本地专场面试成绩!$D$2:$F$474,3,0)","v":{"v":84.4,"d":"84.400"}},{"v":80.59,"d":"80.590"},"是"]
[89,"20232010",50231320,{"v":69.65,"d":"69.650"},{"$f":"VLOOKUP(C91,[1]本地专场面试成绩!$D$2:$F$474,3,0)","v":{"v":85,"d":"85.000"}},80.395,"是"]
[90,"20232011",50233266,{"v":75.85,"d":"75.850"},{"$f":"VLOOKUP(C92,[1]本地专场面试成绩!$D$2:$F$474,3,0)","v":{"v":84.2,"d":"84.200"}},81.695,"是"]
[91,"20232011",50230999,{"v":68.4,"d":"68.400"},{"$f":"VLOOKUP(C93,[1]本地专场面试成绩!$D$2:$F$474,3,0)","v":{"v":86.2,"d":"86.200"}},{"v":80.86,"d":"80.860"},"是"]
[92,"20232011",50231571,{"v":74.5,"d":"74.500"},{"$f":"VLOOKUP(C94,[1]本地专场面试成绩!$D$2:$F$474,3,0)","v":{"v":83.4,"d":"83.400"}},{"v":80.73,"d":"80.730"},"是"]
[93,"20232011",50231024,{"v":70.5,"d":"70.500"},{"$f":"VLOOKUP(C95,[1]本地专场面试成绩!$D$2:$F$474,3,0)","v":{"v":84.4,"d":"84.400"}},{"v":80.23,"d":"80.230"},"是"]
[94,"20232011",50230186,{"v":70.55,"d":"70.550"},{"$f":"VLOOKUP(C96,[1]本地专场面试成绩!$D$2:$F$474,3,0)","v":{"v":82,"d":"82.000"}},78.565,"是"]
[95,20232012,50230334,{"v":88,"d":"88.000"},{"$f":"VLOOKUP(C97,[1]本地专场面试成绩!$D$2:$F$474,3,0)","v":{"v":85.44,"d":"85.440"}},{"$f":"D97*0.6+E97*0.4","v":86.976},"是"]
[96,20232012,50231517,{"v":87.2,"d":"87.200"},{"$f":"VLOOKUP(C98,[1]本地专场面试成绩!$D$2:$F$474,3,0)","v":{"v":85.6,"d":"85.600"}},{"v":86.56,"d":"86.560"},"是"]
[97,20232013,50232238,{"v":89.6,"d":"89.600"},{"$f":"VLOOKUP(C99,[1]本地专场面试成绩!$D$2:$F$474,3,0)","v":{"v":84.2,"d":"84.200"}},{"v":87.44,"d":"87.440"},"是"]
[98,20232013,50231958,{"v":89.4,"d":"89.400"},{"$f":"VLOOKUP(C100,[1]本地专场面试成绩!$D$2:$F$474,3,0)","v":{"v":81.8,"d":"81.800"}},{"v":86.36,"d":"86.360"},"是"]
[99,20232013,50230033,{"v":88.4,"d":"88.400"},{"$f":"VLOOKUP(C101,[1]本地专场面试成绩!$D$2:$F$474,3,0)","v":{"v":83.2,"d":"83.200"}},{"v":86.32,"d":"86.320"},"是"]
[100,20232013,50231021,{"v":86.6,"d":"86.600"},{"$f":"VLOOKUP(C102,[1]本地专场面试成绩!$D$2:$F$474,3,0)","v":{"v":85.8,"d":"85.800"}},{"v":86.28,"d":"86.280"},"是"]
[101,"20232014",50230204,{"v":67.75,"d":"67.750"},{"$f":"VLOOKUP(C103,[1]本地专场面试成绩!$D$2:$F$474,3,0)","v":{"v":87,"d":"87.000"}},{"$f":"D103*0.3+E103*0.7","v":81.225},"是"]
[102,"20232015",50230164,{"v":73.5,"d":"73.500"},{"$f":"VLOOKUP(C104,[1]本地专场面试成绩!$D$2:$F$474,3,0)","v":{"v":88,"d":"88.000"}},{"v":83.65,"d":"83.650"},"是"]
[103,"20232015",50230680,{"v":72.65,"d":"72.650"},{"$f":"VLOOKUP(C105,[1]本地专场面试成绩!$D$2:$F$474,3,0)","v":{"v":85,"d":"85.000"}},81.295,"是"]
[104,"20232015",50231671,{"v":66.9,"d":"66.900"},{"$f":"VLOOKUP(C106,[1]本地专场面试成绩!$D$2:$F$474,3,0)","v":{"v":81.8,"d":"81.800"}},{"v":77.33,"d":"77.330"},"是"]
[105,"20232015",50230854,{"v":65.55,"d":"65.550"},{"$f":"VLOOKUP(C107,[1]本地专场面试成绩!$D$2:$F$474,3,0)","v":{"v":80.4,"d":"80.400"}},75.945,"是"]
[106,"20232016",50232993,{"v":69.05,"d":"69.050"},{"$f":"VLOOKUP(C108,[1]本地专场面试成绩!$D$2:$F$474,3,0)","v":{"v":88.4,"d":"88.400"}},82.595,"是"]
[107,"20232016",50230028,{"v":72,"d":"72.000"},{"$f":"VLOOKUP(C109,[1]本地专场面试成绩!$D$2:$F$474,3,0)","v":{"v":85.8,"d":"85.800"}},{"v":81.66,"d":"81.660"},"是"]
[108,"20232017",50230466,{"v":67.6,"d":"67.600"},{"$f":"VLOOKUP(C110,[1]本地专场面试成绩!$D$2:$F$474,3,0)","v":{"v":86.4,"d":"86.400"}},{"v":80.76,"d":"80.760"},"是"]
[109,"20232017",50230173,{"v":67.65,"d":"67.650"},{"$f":"VLOOKUP(C111,[1]本地专场面试成绩!$D$2:$F$474,3,0)","v":{"v":82.8,"d":"82.800"}},78.255,"是"]
[110,"20232017",50231605,{"v":71.75,"d":"71.750"},{"$f":"VLOOKUP(C112,[1]本地专场面试成绩!$D$2:$F$474,3,0)","v":{"v":79.4,"d":"79.400"}},77.105,"是"]
[111,"20232017",50231193,{"v":67.7,"d":"67.700"},{"$f":"VLOOKUP(C113,[1]本地专场面试成绩!$D$2:$F$474,3,0)","v":{"v":78.8,"d":"78.800"}},{"v":75.47,"d":"75.470"},"是"]
[112,"20232018",50230460,{"v":68.55,"d":"68.550"},{"$f":"VLOOKUP(C114,[1]本地专场面试成绩!$D$2:$F$474,3,0)","v":{"v":83.2,"d":"83.200"}},78.805,"是"]
[113,"20232020",50232374,{"v":76.1,"d":"76.100"},{"$f":"VLOOKUP(C115,[1]本地专场面试成绩!$D$2:$F$474,3,0)","v":{"v":87.2,"d":"87.200"}},{"v":83.87,"d":"83.870"},"是"]
[114,"20232020",50230267,{"v":75.6,"d":"75.600"},{"$f":"VLOOKUP(C116,[1]本地专场面试成绩!$D$2:$F$474,3,0)","v":{"v":86.8,"d":"86.800"}},{"v":83.44,"d":"83.440"},"是"]
[115,"20232020",50231658,{"v":71.55,"d":"71.550"},{"$f":"VLOOKUP(C117,[1]本地专场面试成绩!$D$2:$F$474,3,0)","v":{"v":88.4,"d":"88.400"}},83.345,"是"]
[116,"20232020",50231172,{"v":71.55,"d":"71.550"},{"$f":"VLOOKUP(C118,[1]本地专场面试成绩!$D$2:$F$474,3,0)","v":{"v":86.8,"d":"86.800"}},82.225,"是"]
[117,"20232020",50231498,{"v":68.15,"d":"68.150"},{"$f":"VLOOKUP(C119,[1]本地专场面试成绩!$D$2:$F$474,3,0)","v":{"v":88.2,"d":"88.200"}},82.185,"是"]
[118,"20232020",50231885,{"v":78,"d":"78.000"},{"$f":"VLOOKUP(C120,[1]本地专场面试成绩!$D$2:$F$474,3,0)","v":{"v":83.6,"d":"83.600"}},{"v":81.92,"d":"81.920"},"是"]
[119,"20232020",50231528,{"v":69.8,"d":"69.800"},{"$f":"VLOOKUP(C121,[1]本地专场面试成绩!$D$2:$F$474,3,0)","v":{"v":87,"d":"87.000"}},{"v":81.84,"d":"81.840"},"是"]
[120,"20232020",50231491,{"v":71,"d":"71.000"},{"$f":"VLOOKUP(C122,[1]本地专场面试成绩!$D$2:$F$474,3,0)","v":{"v":85.6,"d":"85.600"}},{"v":81.22,"d":"81.220"},"是"]
[121,"20232020",50230550,{"v":74.85,"d":"74.850"},{"$f":"VLOOKUP(C123,[1]本地专场面试成绩!$D$2:$F$474,3,0)","v":{"v":83.4,"d":"83.400"}},80.835,"是"]
[122,"20232020",50230979,{"v":72,"d":"72.000"},{"$f":"VLOOKUP(C124,[1]本地专场面试成绩!$D$2:$F$474,3,0)","v":{"v":84.4,"d":"84.400"}},{"v":80.68,"d":"80.680"},"是"]
[123,"20232020",50232386,{"v":72.45,"d":"72.450"},{"$f":"VLOOKUP(C125,[1]本地专场面试成绩!$D$2:$F$474,3,0)","v":{"v":84.2,"d":"84.200"}},80.675,"是"]
[124,"20232021",50230008,{"v":71.35,"d":"71.350"},{"$f":"VLOOKUP(C126,[1]本地专场面试成绩!$D$2:$F$474,3,0)","v":{"v":86,"d":"86.000"}},81.605,"是"]
[125,"20232021",50231130,{"v":70.8,"d":"70.800"},{"$f":"VLOOKUP(C127,[1]本地专场面试成绩!$D$2:$F$474,3,0)","v":{"v":86.2,"d":"86.200"}},{"v":81.58,"d":"81.580"},"是"]
[126,"20232021",50231672,{"v":69.4,"d":"69.400"},{"$f":"VLOOKUP(C128,[1]本地专场面试成绩!$D$2:$F$474,3,0)","v":{"v":85.2,"d":"85.200"}},{"v":80.46,"d":"80.460"},"是"]
[127,"20232021",50230330,{"v":70.55,"d":"70.550"},{"$f":"VLOOKUP(C129,[1]本地专场面试成绩!$D$2:$F$474,3,0)","v":{"v":84.4,"d":"84.400"}},80.245,"是"]
[128,"20232021",50231239,{"v":70.6,"d":"70.600"},{"$f":"VLOOKUP(C130,[1]本地专场面试成绩!$D$2:$F$474,3,0)","v":{"v":83.8,"d":"83.800"}},{"v":79.84,"d":"79.840"},"是"]
[129,"20232021",50231991,{"v":77.35,"d":"77.350"},{"$f":"VLOOKUP(C131,[1]本地专场面试成绩!$D$2:$F$474,3,0)","v":{"v":80.8,"d":"80.800"}},79.765,"是"]
[130,"20232021",50231076,{"v":69.85,"d":"69.850"},{"$f":"VLOOKUP(C132,[1]本地专场面试成绩!$D$2:$F$474,3,0)","v":{"v":83.4,"d":"83.400"}},79.335,"是"]
[131,"20232021",50231444,{"v":71.95,"d":"71.950"},{"$f":"VLOOKUP(C133,[1]本地专场面试成绩!$D$2:$F$474,3,0)","v":{"v":82.2,"d":"82.200"}},79.125,"是"]
[132,"20232021",50230534,{"v":77.5,"d":"77.500"},{"$f":"VLOOKUP(C134,[1]本地专场面试成绩!$D$2:$F$474,3,0)","v":{"v":79.4,"d":"79.400"}},{"v":78.83,"d":"78.830"},"是"]
[133,"20232021",50230228,{"v":70,"d":"70.000"},{"$f":"VLOOKUP(C135,[1]本地专场面试成绩!$D$2:$F$474,3,0)","v":{"v":82.4,"d":"82.400"}},{"v":78.68,"d":"78.680"},"是"]
[134,"20232022",50231306,{"v":72.75,"d":"72.750"},{"$f":"VLOOKUP(C136,[1]本地专场面试成绩!$D$2:$F$474,3,0)","v":{"v":88.2,"d":"88.200"}},83.565,"是"]
[135,"20232022",50230243,{"v":75.4,"d":"75.400"},{"$f":"VLOOKUP(C137,[1]本地专场面试成绩!$D$2:$F$474,3,0)","v":{"v":83.8,"d":"83.800"}},{"v":81.28,"d":"81.280"},"是"]
[136,"20232022",50231267,{"v":72.7,"d":"72.700"},{"$f":"VLOOKUP(C138,[1]本地专场面试成绩!$D$2:$F$474,3,0)","v":{"v":84.4,"d":"84.400"}},{"v":80.89,"d":"80.890"},"是"]
[137,"20232022",50231626,{"v":74.55,"d":"74.550"},{"$f":"VLOOKUP(C139,[1]本地专场面试成绩!$D$2:$F$474,3,0)","v":{"v":82.8,"d":"82.800"}},80.325,"是"]
[138,"20232022",50230637,{"v":71.5,"d":"71.500"},{"$f":"VLOOKUP(C140,[1]本地专场面试成绩!$D$2:$F$474,3,0)","v":{"v":83.2,"d":"83.200"}},{"v":79.69,"d":"79.690"},"是"]
[139,"20232022",50232658,{"v":72.8,"d":"72.800"},{"$f":"VLOOKUP(C141,[1]本地专场面试成绩!$D$2:$F$474,3,0)","v":{"v":82.4,"d":"82.400"}},{"v":79.52,"d":"79.520"},"是"]
[140,"20232022",50231514,{"v":70.65,"d":"70.650"},{"$f":"VLOOKUP(C142,[1]本地专场面试成绩!$D$2:$F$474,3,0)","v":{"v":83,"d":"83.000"}},79.295,"是"]
[141,"20232022",50230423,{"v":69.65,"d":"69.650"},{"$f":"VLOOKUP(C143,[1]本地专场面试成绩!$D$2:$F$474,3,0)","v":{"v":83.4,"d":"83.400"}},79.275,"是"]
[142,"20232022",50231941,{"v":74.05,"d":"74.050"},{"$f":"VLOOKUP(C144,[1]本地专场面试成绩!$D$2:$F$474,3,0)","v":{"v":81.4,"d":"81.400"}},79.195,"是"]
[143,"20232023",50230087,{"v":84.4,"d":"84.400"},{"$f":"VLOOKUP(C145,[1]本地专场面试成绩!$D$2:$F$474,3,0)","v":{"v":87,"d":"87.000"}},{"$f":"D145*0.6+E145*0.4","v":{"v":85.44,"d":"85.440"}},"是"]
[144,"20232023",50230971,{"v":85.2,"d":"85.200"},{"$f":"VLOOKUP(C146,[1]本地专场面试成绩!$D$2:$F$474,3,0)","v":{"v":85.4,"d":"85.400"}},{"v":85.28,"d":"85.280"},"是"]
[145,"20232023",50230608,{"v":84.7,"d":"84.700"},{"$f":"VLOOKUP(C147,[1]本地专场面试成绩!$D$2:$F$474,3,0)","v":{"v":85.4,"d":"85.400"}},{"v":84.98,"d":"84.980"},"是"]
[146,"20232023",50230042,{"v":84.9,"d":"84.900"},{"$f":"VLOOKUP(C148,[1]本地专场面试成绩!$D$2:$F$474,3,0)","v":{"v":84.4,"d":"84.400"}},{"v":84.7,"d":"84.700"},"是"]
[147,"20232023",50230762,{"v":86.8,"d":"86.800"},{"$f":"VLOOKUP(C149,[1]本地专场面试成绩!$D$2:$F$474,3,0)","v":{"v":80.4,"d":"80.400"}},{"v":84.24,"d":"84.240"},"是"]
[148,"20232024",50232212,{"v":88.4,"d":"88.400"},{"$f":"VLOOKUP(C150,[1]本地专场面试成绩!$D$2:$F$474,3,0)","v":{"v":85.92,"d":"85.920"}},87.408,"是"]
[149,"20232024",50231847,{"v":90.8,"d":"90.800"},{"$f":"VLOOKUP(C151,[1]本地专场面试成绩!$D$2:$F$474,3,0)","v":{"v":81.6,"d":"81.600"}},{"v":87.12,"d":"87.120"},"是"]
[150,"20232024",50231823,{"v":89.4,"d":"89.400"},{"$f":"VLOOKUP(C152,[1]本地专场面试成绩!$D$2:$F$474,3,0)","v":{"v":82.4,"d":"82.400"}},{"v":86.6,"d":"86.600"},"是"]
[151,"20232024",50230225,{"v":87.6,"d":"87.600"},{"$f":"VLOOKUP(C153,[1]本地专场面试成绩!$D$2:$F$474,3,0)","v":{"v":83.7,"d":"83.700"}},{"v":86.04,"d":"86.040"},"是"]
[152,"20232024",50230956,{"v":85.6,"d":"85.600"},{"$f":"VLOOKUP(C154,[1]本地专场面试成绩!$D$2:$F$474,3,0)","v":{"v":85.9,"d":"85.900"}},{"v":85.72,"d":"85.720"},"是"]
[153,"20232025",50230088,{"v":85,"d":"85.000"},{"$f":"VLOOKUP(C155,[1]本地专场面试成绩!$D$2:$F$474,3,0)","v":{"v":85.6,"d":"85.600"}},{"v":85.24,"d":"85.240"},"是"]
[154,"20232025",50230997,{"v":85.6,"d":"85.600"},{"$f":"VLOOKUP(C156,[1]本地专场面试成绩!$D$2:$F$474,3,0)","v":{"v":80,"d":"80.000"}},{"v":83.36,"d":"83.360"},"是"]
[155,"20232026",50232653,{"v":71.25,"d":"71.250"},{"$f":"VLOOKUP(C157,[1]本地专场面试成绩!$D$2:$F$474,3,0)","v":{"v":81,"d":"81.000"}},{"$f":"D157*0.3+E157*0.7","v":78.075},"是"]
[156,"20232026",50232120,{"v":66.15,"d":"66.150"},{"$f":"VLOOKUP(C158,[1]本地专场面试成绩!$D$2:$F$474,3,0)","v":{"v":81.2,"d":"81.200"}},76.685,"是"]
[157,"20232027",50230866,{"v":90,"d":"90.000"},{"$f":"VLOOKUP(C159,[1]本地专场面试成绩!$D$2:$F$474,3,0)","v":{"v":85.8,"d":"85.800"}},{"$f":"D159*0.6+E159*0.4","v":{"v":88.32,"d":"88.320"}},"是"]
[158,"20232028",50231988,{"v":72.35,"d":"72.350"},{"$f":"VLOOKUP(C160,[1]本地专场面试成绩!$D$2:$F$474,3,0)","v":{"v":80,"d":"80.000"}},77.705,"是"]
[159,"20232028",50233000,{"v":60.5,"d":"60.500"},{"$f":"VLOOKUP(C161,[1]本地专场面试成绩!$D$2:$F$474,3,0)","v":{"v":84.2,"d":"84.200"}},{"v":77.09,"d":"77.090"},"是"]